BEGIN:VCALENDAR
PRODID:NingEventWidget-v1
VERSION:2.0
METHOD:PUBLISH
BEGIN:VTIMEZONE
TZID:Pacific/Midway
X-LIC-LOCATION:Pacific/Midway
BEGIN:STANDARD
TZOFFSETFROM:-1100
TZOFFSETTO:-1100
TZNAME:SST
DTSTART:19700101T000000
END:STANDARD
END:VTIMEZONE
BEGIN:VEVENT
UID:5385115:Event:176772
DTSTAMP:20260422T214829Z
SUMMARY:Open access publishing and the ARAN repository - an overview
DESCRIPTION:To celebrate International Open Access week the Library in
 vites you to Open access publishing and the ARAN repository - an over
 view\nThis session will give an overview of:\n\nOpen Access publishing
  (Green and Gold) and policy at NUI Galway\nBenefits of adding your pu
 blications to ARAN\nLibrary tools and services to assist you with publ
 ishing your research\n\nand will draw on content from the following li
 brary guides:\n\nPublishing your research\nOpen Access Publishing\n\nT
 his event marks Open Access Week, a global event now entering its nint
 h year, is an opportunity for the academic and research community to c
 ontinue to learn about the potential benefits of Open Access, to share
  what they’ve learned with colleagues, and to help inspire wider par
 ticipation in helping to make Open Access a new norm in scholarship an
 d research.\nFREE EVENT: Register here\nPresenters:\nTrish Finnan, Dig
 ital Publishing and Data Management Librarian\nRosie Dunne, Research S
 ervices Librarian\n\nFor more information visit http://legacy.openacce
 ssweek.org/events/open-access-publishing-and-the-aran-repository-an-ov
 erview
DTSTART;TZID=Pacific/Midway:20181025T110000
DTEND;TZID=Pacific/Midway:20181025T120000
CATEGORIES:"workshop/training"
LOCATION:12
WEBSITE:https://goo.gl/maps/xn1KYABKpYx
URL:https://goo.gl/maps/xn1KYABKpYx
CONTACT:
ORGANIZER:James Hardiman Library
ATTACH;FMTTYPE="image/jpeg":http://storage.ning.com/topology/rest/1.0/
 file/get/3057620248?profile=original
ATTENDEE;ROLE=REQ-PARTICIPANT;PARTSTAT=ACCEPTED;RSVP=TRUE;CN="James Ha
 rdiman":http://legacy.openaccessweek.org/profile/JamesHardiman
END:VEVENT
END:VCALENDAR
