BEGIN:VCALENDAR
PRODID:NingEventWidget-v1
VERSION:2.0
METHOD:PUBLISH
BEGIN:VTIMEZONE
TZID:Pacific/Midway
X-LIC-LOCATION:Pacific/Midway
BEGIN:STANDARD
TZOFFSETFROM:-1100
TZOFFSETTO:-1100
TZNAME:SST
DTSTART:19700101T000000
END:STANDARD
END:VTIMEZONE
BEGIN:VEVENT
UID:5385115:Event:183986
DTSTAMP:20260421T010927Z
SUMMARY:Open Access Public Lecture @ Durban University of Technology
DESCRIPTION:Prof Ahmed Bawa (Universities South Africa) will present a
  public lecture on Open Access at the Durban University of Technology 
 on the 21 October 2019. \n\nFor more information visit http://legacy.
 openaccessweek.org/events/open-access-public-lecture-durban-university
 -of-technology
DTSTART;TZID=Pacific/Midway:20191021T120000
DTEND;TZID=Pacific/Midway:20191021T140000
CATEGORIES:public, lecture
LOCATION:South Africa
WEBSITE:https://library.dut.ac.za
URL:https://library.dut.ac.za
CONTACT:+27313735516
ORGANIZER;CN="Sagren Moodley":http://legacy.openaccessweek.org/profile
 /SagrenMoodley
ATTACH;FMTTYPE="image/jpeg":
ATTENDEE;ROLE=REQ-PARTICIPANT;PARTSTAT=ACCEPTED;RSVP=TRUE;CN="Sagren M
 oodley":http://legacy.openaccessweek.org/profile/SagrenMoodley
END:VEVENT
END:VCALENDAR
