BEGIN:VCALENDAR
PRODID:NingEventWidget-v1
VERSION:2.0
METHOD:PUBLISH
BEGIN:VTIMEZONE
TZID:Pacific/Midway
X-LIC-LOCATION:Pacific/Midway
BEGIN:STANDARD
TZOFFSETFROM:-1100
TZOFFSETTO:-1100
TZNAME:SST
DTSTART:19700101T000000
END:STANDARD
END:VTIMEZONE
BEGIN:VEVENT
UID:5385115:Event:148182
DTSTAMP:20260425T063423Z
SUMMARY:Open Access posters exhibition
DESCRIPTION:Student's of BA. Education will explain OA concepts, examp
 les and context to the community of the Faculty of Behavioural Science
 s, UAEMEX.\n\nFor more information visit http://legacy.openaccessweek.
 org/events/open-access-posters-exhibition
DTSTART;TZID=Pacific/Midway:20161024T180000
DTEND;TZID=Pacific/Midway:20161028T190000
CATEGORIES:scholarly
LOCATION:Mexico
WEBSITE:
URL:
CONTACT:
ORGANIZER;CN="Ivonne Lujano":http://legacy.openaccessweek.org/profile/
 IvonneLujano
ATTACH;FMTTYPE="image/jpeg":
ATTENDEE;ROLE=REQ-PARTICIPANT;PARTSTAT=ACCEPTED;RSVP=TRUE;CN="Ivonne L
 ujano":http://legacy.openaccessweek.org/profile/IvonneLujano
END:VEVENT
END:VCALENDAR
