BEGIN:VCALENDAR
PRODID:NingEventWidget-v1
VERSION:2.0
METHOD:PUBLISH
BEGIN:VTIMEZONE
TZID:Pacific/Midway
X-LIC-LOCATION:Pacific/Midway
BEGIN:STANDARD
TZOFFSETFROM:-1100
TZOFFSETTO:-1100
TZNAME:SST
DTSTART:19700101T000000
END:STANDARD
END:VTIMEZONE
BEGIN:VEVENT
UID:5385115:Event:6561
DTSTAMP:20260423T202734Z
SUMMARY:Open Access Panel at UC Santa Cruz
DESCRIPTION:Ten faculty members from across the disciplines will discu
 ss how they are making their research, data and teaching resources ope
 nly accessible. They will be talking about established projects as wel
 l as early phases of new projects.\n\nFor more information visit http:
 //legacy.openaccessweek.org/events/open-access-panel-at-uc-santa
DTSTART;TZID=Pacific/Midway:20101022T150000
DTEND;TZID=Pacific/Midway:20101022T180000
CATEGORIES:panel
LOCATION:McHenry Library University of California Santa Cruz
WEBSITE:
URL:
CONTACT:
ORGANIZER;CN="Elisabeth Remak-Honnef":http://legacy.openaccessweek.org
 /profile/ElisabethRemakHonnef
ATTACH;FMTTYPE="image/jpeg":
ATTENDEE;ROLE=REQ-PARTICIPANT;PARTSTAT=ACCEPTED;RSVP=TRUE;CN="Elisabet
 h Remak-Honnef":http://legacy.openaccessweek.org/profile/ElisabethRema
 kHonnef
END:VEVENT
END:VCALENDAR
