BEGIN:VCALENDAR
PRODID:NingEventWidget-v1
VERSION:2.0
METHOD:PUBLISH
BEGIN:VTIMEZONE
TZID:Pacific/Midway
X-LIC-LOCATION:Pacific/Midway
BEGIN:STANDARD
TZOFFSETFROM:-1100
TZOFFSETTO:-1100
TZNAME:SST
DTSTART:19700101T000000
END:STANDARD
END:VTIMEZONE
BEGIN:VEVENT
UID:5385115:Event:138378
DTSTAMP:20260423T033733Z
SUMMARY:Open Access: Opening Up the Conversation
DESCRIPTION:Whether you're an open access advocate, a skeptic, or some
 where in between, join the College of Wooster Libraries for a conversa
 tion about the state of open access.  We'll untangle terminology, pro
 vide perspectives on the rise of OA publishing, and offer a glimpse of
  the open future.  Come prepared to discuss your ideas and experience
 s.\n\nFor more information visit http://legacy.openaccessweek.org/even
 ts/open-access-opening-up-the-conversation-1
DTSTART;TZID=Pacific/Midway:20151022T160000
DTEND;TZID=Pacific/Midway:20151022T170000
CATEGORIES:"workshop/roundtable"
LOCATION:United States of America
WEBSITE:http://libguides.wooster.edu/open-access
URL:http://libguides.wooster.edu/open-access
CONTACT:
ORGANIZER;CN="Zachary Sharrow":http://legacy.openaccessweek.org/profil
 e/ZacharySharrow
ATTACH;FMTTYPE="image/jpeg":
ATTENDEE;ROLE=REQ-PARTICIPANT;PARTSTAT=ACCEPTED;RSVP=TRUE;CN="Zachary 
 Sharrow":http://legacy.openaccessweek.org/profile/ZacharySharrow
END:VEVENT
END:VCALENDAR
