BEGIN:VCALENDAR
PRODID:NingEventWidget-v1
VERSION:2.0
METHOD:PUBLISH
BEGIN:VTIMEZONE
TZID:Pacific/Midway
X-LIC-LOCATION:Pacific/Midway
BEGIN:STANDARD
TZOFFSETFROM:-1100
TZOFFSETTO:-1100
TZNAME:SST
DTSTART:19700101T000000
END:STANDARD
END:VTIMEZONE
BEGIN:VEVENT
UID:5385115:Event:5737
DTSTAMP:20260424T080329Z
SUMMARY:Open Access Journals: What are They and What are They Good for
 ?
DESCRIPTION:Panel discussion with Brian Rosenblum, scholarly digital i
 nitiatives librarian; Stuart Day, chair of the Spanish and Portuguese 
 department; and Marc L. Greenberg, chair of the Slavic languages & lit
 eratures department.\nRefreshments will be served.\n\nFor more informa
 tion visit http://legacy.openaccessweek.org/events/open-access-journal
 s-what-are
DTSTART;TZID=Pacific/Midway:20101018T140000
DTEND;TZID=Pacific/Midway:20101018T150000
CATEGORIES:panel, discussion
LOCATION:University of Kansas' Center for Digital Scholarship
WEBSITE:http://cds.lib.ku.edu
URL:http://cds.lib.ku.edu
CONTACT:
ORGANIZER;CN="Ada Emmett":http://legacy.openaccessweek.org/profile/Ada
 Emmett
ATTACH;FMTTYPE="image/jpeg":
ATTENDEE;ROLE=REQ-PARTICIPANT;PARTSTAT=ACCEPTED;RSVP=TRUE;CN="Ada Emme
 tt":http://legacy.openaccessweek.org/profile/AdaEmmett
END:VEVENT
END:VCALENDAR
