BEGIN:VCALENDAR
PRODID:NingEventWidget-v1
VERSION:2.0
METHOD:PUBLISH
BEGIN:VTIMEZONE
TZID:Pacific/Midway
X-LIC-LOCATION:Pacific/Midway
BEGIN:STANDARD
TZOFFSETFROM:-1100
TZOFFSETTO:-1100
TZNAME:SST
DTSTART:19700101T000000
END:STANDARD
END:VTIMEZONE
BEGIN:VEVENT
UID:5385115:Event:4035
DTSTAMP:20260419T035410Z
SUMMARY:Open Access Journal Launch
DESCRIPTION:The College of The Bahamas will publish volume 16 of its o
 nline, open access scholarly journal, the International Journal of Bah
 amian Studies.\n\nFor more information visit http://legacy.openaccessw
 eek.org/events/open-access-journal-launch
DTSTART;TZID=Pacific/Midway:20101020T100000
DTEND;TZID=Pacific/Midway:20101020T110000
CATEGORIES:on-line, journal, launch
LOCATION:MHE Boardroom, Oakes Field Campus
WEBSITE:http://www.cob.edu.bs
URL:http://www.cob.edu.bs
CONTACT:
ORGANIZER;CN="Virginia Ballance":http://legacy.openaccessweek.org/prof
 ile/VirginiaBallance
ATTACH;FMTTYPE="image/jpeg":
ATTENDEE;ROLE=REQ-PARTICIPANT;PARTSTAT=ACCEPTED;RSVP=TRUE;CN="Virginia
  Ballance":http://legacy.openaccessweek.org/profile/VirginiaBallance
END:VEVENT
END:VCALENDAR
