BEGIN:VCALENDAR
PRODID:NingEventWidget-v1
VERSION:2.0
METHOD:PUBLISH
BEGIN:VTIMEZONE
TZID:Pacific/Midway
X-LIC-LOCATION:Pacific/Midway
BEGIN:STANDARD
TZOFFSETFROM:-1100
TZOFFSETTO:-1100
TZNAME:SST
DTSTART:19700101T000000
END:STANDARD
END:VTIMEZONE
BEGIN:VEVENT
UID:5385115:Event:115835
DTSTAMP:20260423T010816Z
SUMMARY:OPEN ACCESS - Informationsstand
DESCRIPTION:Open Access-Informationsstand der Universitätsbibliothek\
 n\nFor more information visit http://legacy.openaccessweek.org/events/
 open-access-informationsstand
DTSTART;TZID=Pacific/Midway:20141021T100000
DTEND;TZID=Pacific/Midway:20141021T150000
CATEGORIES:information, booth
LOCATION:TU Wien, Freihaus (gegenüber Portiersloge)
WEBSITE:http://www.ub.tuwien.ac.at/openaccess/
URL:http://www.ub.tuwien.ac.at/openaccess/
CONTACT:
ORGANIZER:Universitätsbibliothek Open Access Team
ATTACH;FMTTYPE="image/jpeg":
ATTENDEE;ROLE=REQ-PARTICIPANT;PARTSTAT=ACCEPTED;RSVP=TRUE;CN="Ingrid H
 aas":http://legacy.openaccessweek.org/profile/IngridHaas
END:VEVENT
END:VCALENDAR
