BEGIN:VCALENDAR
PRODID:NingEventWidget-v1
VERSION:2.0
METHOD:PUBLISH
BEGIN:VTIMEZONE
TZID:Pacific/Midway
X-LIC-LOCATION:Pacific/Midway
BEGIN:STANDARD
TZOFFSETFROM:-1100
TZOFFSETTO:-1100
TZNAME:SST
DTSTART:19700101T000000
END:STANDARD
END:VTIMEZONE
BEGIN:VEVENT
UID:5385115:Event:100203
DTSTAMP:20260423T025227Z
SUMMARY:Open Access Information Tables
DESCRIPTION:J. Murrey Atkins Library is planning a series of informati
 on tables to be staffed by librarians.  Get information and resources
  about open access, copyright, author rights, publishing agreements, f
 ederal funding requirements, and more.\n\nFor more information visit h
 ttp://legacy.openaccessweek.org/events/open-access-information-tables
DTSTART;TZID=Pacific/Midway:20131021T103000
DTEND;TZID=Pacific/Midway:20131021T123000
CATEGORIES:information, tables
LOCATION:J. Murrey Atkins Library
WEBSITE:http://library.uncc.edu/node/13302
URL:http://library.uncc.edu/node/13302
CONTACT:
ORGANIZER;CN="Heather McCullough":http://legacy.openaccessweek.org/pro
 file/HeatherMcCullough
ATTACH;FMTTYPE="image/jpeg":http://storage.ning.com/topology/rest/1.0/
 file/get/3057523653?profile=original
ATTENDEE;ROLE=REQ-PARTICIPANT;PARTSTAT=ACCEPTED;RSVP=TRUE;CN="Heather 
 McCullough":http://legacy.openaccessweek.org/profile/HeatherMcCullough
END:VEVENT
END:VCALENDAR
