BEGIN:VCALENDAR
PRODID:NingEventWidget-v1
VERSION:2.0
METHOD:PUBLISH
BEGIN:VTIMEZONE
TZID:Pacific/Midway
X-LIC-LOCATION:Pacific/Midway
BEGIN:STANDARD
TZOFFSETFROM:-1100
TZOFFSETTO:-1100
TZNAME:SST
DTSTART:19700101T000000
END:STANDARD
END:VTIMEZONE
BEGIN:VEVENT
UID:5385115:Event:111945
DTSTAMP:20260424T012047Z
SUMMARY:Open Access: Información - Conocimiento - Democracia - Ciudad
 anía
DESCRIPTION:VI CONGRESO INTERNACIONAL DE BIBLIOTECOLOGÍA, DOCUMENTACI
 ÓN, ARCHIVÍSTICA Y MUSEOLOGÍA\nOpen Access: Información - Conocimi
 ento - Democracia - Ciudadanía (15, 16, 17 de Octubre de 2014 / La Pa
 z - Bolivia)\nEJES TEMÁTICOS:\n- Open Access o Acceso Abierto: situac
 ión y perspectivas.\n- Bibliotecas: retos y desafíos.\n- Archivos: a
 cciones y buenas prácticas.\n- Museos: reflexiones y experiencias.\n
 ORGANIZA:\nColegio de Profesionales en Ciencias de la Información de
  Bolivia (CPCIB)  cpcibolivia@gmail.com\nwww.cpcib.org.bo\nLa Paz –
  Bolivia\n\nFor more information visit http://legacy.openaccessweek.or
 g/events/open-access-informaci-n-conocimiento-democracia-ciudadan-a
DTSTART;TZID=Pacific/Midway:20141015T000000
DTEND;TZID=Pacific/Midway:20141017T235900
CATEGORIES:congreso
LOCATION:La Paz - Bolivia
WEBSITE:http://www.cpcib.org.bo
URL:http://www.cpcib.org.bo
CONTACT:591-71960296
ORGANIZER:CPCIB
ATTACH;FMTTYPE="image/jpeg":http://storage.ning.com/topology/rest/1.0/
 file/get/3057539084?profile=original
ATTENDEE;ROLE=REQ-PARTICIPANT;PARTSTAT=ACCEPTED;RSVP=TRUE;CN=waldo:htt
 p://legacy.openaccessweek.org/profile/waldo
END:VEVENT
END:VCALENDAR
