BEGIN:VCALENDAR
PRODID:NingEventWidget-v1
VERSION:2.0
METHOD:PUBLISH
BEGIN:VTIMEZONE
TZID:Pacific/Midway
X-LIC-LOCATION:Pacific/Midway
BEGIN:STANDARD
TZOFFSETFROM:-1100
TZOFFSETTO:-1100
TZNAME:SST
DTSTART:19700101T000000
END:STANDARD
END:VTIMEZONE
BEGIN:VEVENT
UID:5385115:Event:202727
DTSTAMP:20260421T050550Z
SUMMARY:\"Open Access in Action\" free online conference by swissunive
 rsities and ZHAW
DESCRIPTION:The conference will explore different thematic areas of Im
 plementation of Open Access thus providing an opportunity for the stea
 dily growing Open Access and Open Science community in Switzerland to 
 discuss them.\nThis fully online conference will be of interest to ins
 titutional leaders, academic staff, researchers, students and policy m
 akers interested in possibilities, conditions and perspectives of scie
 ntific publishing. This includes employees of libraries and other scie
 ntific infrastructure facilities as well as scientists and members of 
 the scientific administration and other interested individuals.\nThe c
 onference is organized by swissuniversities and in cooperation with th
 e ZHAW Zurich University of Applied Sciences. It will be held in Engli
 sh, the participation is free of charge and open to everyone.\nFull pr
 ogramme and further details are available online at: https://www.swiss
 universities.ch/themen/digitalisierung/open-access/conference-open-acc
 ess-in-action\n\nFor more information visit http://legacy.openaccesswe
 ek.org/events/open-access-in-action-1
DTSTART;TZID=Pacific/Midway:20201019T100000
DTEND;TZID=Pacific/Midway:20201019T163000
CATEGORIES:online, conference
LOCATION:Switzerland
WEBSITE:https://www.swissuniversities.ch/themen/digitalisierung/open-a
 ccess/conference-open-access-in-action
URL:https://www.swissuniversities.ch/themen/digitalisierung/open-acces
 s/conference-open-access-in-action
CONTACT:
ORGANIZER:swissuniversities and ZHAW Zurich University of Applied Scie
 nces
ATTACH;FMTTYPE="image/jpeg":
ATTENDEE;ROLE=REQ-PARTICIPANT;PARTSTAT=ACCEPTED;RSVP=TRUE;CN="Elena Š
 imukovič":http://legacy.openaccessweek.org/profile/ElenaSimukovic
END:VEVENT
END:VCALENDAR
