BEGIN:VCALENDAR
PRODID:NingEventWidget-v1
VERSION:2.0
METHOD:PUBLISH
BEGIN:VTIMEZONE
TZID:Pacific/Midway
X-LIC-LOCATION:Pacific/Midway
BEGIN:STANDARD
TZOFFSETFROM:-1100
TZOFFSETTO:-1100
TZNAME:SST
DTSTART:19700101T000000
END:STANDARD
END:VTIMEZONE
BEGIN:VEVENT
UID:5385115:Event:183736
DTSTAMP:20260423T032445Z
SUMMARY:Open Access in a Nutshell
DESCRIPTION:Open Access in a Nutshell\n\nFor more information visit ht
 tp://legacy.openaccessweek.org/events/open-access-in-a-nutshell
DTSTART;TZID=Pacific/Midway:20191020T140000
DTEND;TZID=Pacific/Midway:20191020T170000
CATEGORIES:open, access, for, newbies, at, the, medical, school, gött
 ingen
LOCATION:Germany
WEBSITE:https://www.umg.eu/fileadmin/user_upload/nixdorf/01._Anfahrt_2
 0181128.png
URL:https://www.umg.eu/fileadmin/user_upload/nixdorf/01._Anfahrt_20181
 128.png
CONTACT:
ORGANIZER:Open Access Team, State and University Library Göttingen
ATTACH;FMTTYPE="image/jpeg":
ATTENDEE;ROLE=REQ-PARTICIPANT;PARTSTAT=ACCEPTED;RSVP=TRUE;CN="Daniel B
 eucke":http://legacy.openaccessweek.org/profile/DanielBeucke
ATTENDEE;ROLE=REQ-PARTICIPANT;PARTSTAT=ACCEPTED;RSVP=TRUE;CN="Margo Ba
 rgheer":http://legacy.openaccessweek.org/profile/MargoBargheer
END:VEVENT
END:VCALENDAR
