BEGIN:VCALENDAR
PRODID:NingEventWidget-v1
VERSION:2.0
METHOD:PUBLISH
BEGIN:VTIMEZONE
TZID:Pacific/Midway
X-LIC-LOCATION:Pacific/Midway
BEGIN:STANDARD
TZOFFSETFROM:-1100
TZOFFSETTO:-1100
TZNAME:SST
DTSTART:19700101T000000
END:STANDARD
END:VTIMEZONE
BEGIN:VEVENT
UID:5385115:Event:47268
DTSTAMP:20260419T010713Z
SUMMARY:Open Access Happy Hour: Your Rights as an Author
DESCRIPTION:You know what you write, but do you know your rights? Copy
 right is a bundle of rights that apply to work you produce in any medi
 um. How can you choose a publisher and negotiate your contracts to mak
 e the most of your rights as a scholar, researcher, author, and creato
 r? Come enjoy wine & cheese with your colleagues and learn how to pres
 erve your rights to reproduce, distribute, and display the work you cr
 eate.\n\nFor more information visit http://legacy.openaccessweek.org/e
 vents/open-access-happy-hour-your-rights-as-an-author
DTSTART;TZID=Pacific/Midway:20111026T173000
DTEND;TZID=Pacific/Midway:20111026T190000
CATEGORIES:faculty, workshop
LOCATION:Rm A632, Faculty Lounge, NYC College of Technology, CUNY
WEBSITE:
URL:
CONTACT:
ORGANIZER;CN="Maura Smale":http://legacy.openaccessweek.org/profile/Ma
 uraSmale
ATTACH;FMTTYPE="image/jpeg":http://storage.ning.com/topology/rest/1.0/
 file/get/3057476209?profile=original
ATTENDEE;ROLE=REQ-PARTICIPANT;PARTSTAT=ACCEPTED;RSVP=TRUE;CN="Maura Sm
 ale":http://legacy.openaccessweek.org/profile/MauraSmale
END:VEVENT
END:VCALENDAR
