BEGIN:VCALENDAR
PRODID:NingEventWidget-v1
VERSION:2.0
METHOD:PUBLISH
BEGIN:VTIMEZONE
TZID:Pacific/Midway
X-LIC-LOCATION:Pacific/Midway
BEGIN:STANDARD
TZOFFSETFROM:-1100
TZOFFSETTO:-1100
TZNAME:SST
DTSTART:19700101T000000
END:STANDARD
END:VTIMEZONE
BEGIN:VEVENT
UID:5385115:Event:100384
DTSTAMP:20260423T042757Z
SUMMARY:Open Access: From BioMed Central to F1000Research
DESCRIPTION:Rebecca Lawrence (Faculty of 1000) will talk about the de
 velopments in OA publishing from the early days of BioMed Central to t
 he success of PLOS and the most recent developments of open peer revi
 ew, open data, and F1000Research.\nSwansea researchers will find this 
 a fascinating insight into the world of Open Access publishing and wil
 l have a chance to consider the latest developments and how they might
  benefit or impact upon their research in terms of  publishing, impac
 t and profile.\n\nFor more information visit http://legacy.openaccessw
 eek.org/events/open-access-from-biomed-central-to-f1000research
DTSTART;TZID=Pacific/Midway:20131021T120000
DTEND;TZID=Pacific/Midway:20131021T140000
CATEGORIES:seminar
LOCATION:SURF Room, Fulton House, Swansea University
WEBSITE:http://www.swan.ac.uk
URL:http://www.swan.ac.uk
CONTACT:01792295040
ORGANIZER;CN="Clare Boucher":http://legacy.openaccessweek.org/profile/
 ClareBoucher
ATTACH;FMTTYPE="image/jpeg":
ATTENDEE;ROLE=REQ-PARTICIPANT;PARTSTAT=ACCEPTED;RSVP=TRUE;CN="Clare Bo
 ucher":http://legacy.openaccessweek.org/profile/ClareBoucher
ATTENDEE;ROLE=REQ-PARTICIPANT;PARTSTAT=TENTATIVE;RSVP=TRUE;CN="Eva Ams
 en":http://legacy.openaccessweek.org/profile/EvaAmsen
END:VEVENT
END:VCALENDAR
