BEGIN:VCALENDAR
PRODID:NingEventWidget-v1
VERSION:2.0
METHOD:PUBLISH
BEGIN:VTIMEZONE
TZID:Pacific/Midway
X-LIC-LOCATION:Pacific/Midway
BEGIN:STANDARD
TZOFFSETFROM:-1100
TZOFFSETTO:-1100
TZNAME:SST
DTSTART:19700101T000000
END:STANDARD
END:VTIMEZONE
BEGIN:VEVENT
UID:5385115:Event:47447
DTSTAMP:20260419T175538Z
SUMMARY:Open Access – Freier Zugang zur wissenschaftlicher Literatur
 : Das Wichtigste in Kürze
DESCRIPTION:Das Wichtigste in Kürze für Forschende und Studierende\n
 Eine unkomplizierte Kurzeinführung in Open Access über Mittag, bei d
 er Sie auch Gelegenheit haben, alle möglichen Fragen rund um OA zu st
 ellen.\n \nPlease note: This session will be in German. If you prefer
  English see the session on Friday, 28, same time, Room A022\n \n\nF
 or more information visit http://legacy.openaccessweek.org/events/open
 -access-freier-zugang-zur-wissenschaftlicher-literatur-das
DTSTART;TZID=Pacific/Midway:20111026T121500
DTEND;TZID=Pacific/Midway:20111026T124500
CATEGORIES:open, information, session
LOCATION:Bern, Hochschulgebäude UniS, A301
WEBSITE:http://maps.google.com/maps/place?q=Schanzeneckstrasse+1,+Bern
 ,+Schweiz&hl=de&ftid=0x478e39bc38eb4133:0xd4ec7ee1421749fa
URL:http://maps.google.com/maps/place?q=Schanzeneckstrasse+1,+Bern,+Sc
 hweiz&hl=de&ftid=0x478e39bc38eb4133:0xd4ec7ee1421749fa
CONTACT:
ORGANIZER:Eva Maurer, Universitätsbibliothek Bern
ATTACH;FMTTYPE="image/jpeg":http://storage.ning.com/topology/rest/1.0/
 file/get/3057476331?profile=original
ATTENDEE;ROLE=REQ-PARTICIPANT;PARTSTAT=ACCEPTED;RSVP=TRUE;CN="Stevan H
 arnad":http://legacy.openaccessweek.org/profile/StevanHarnad
ATTENDEE;ROLE=REQ-PARTICIPANT;PARTSTAT=ACCEPTED;RSVP=TRUE;CN="Open Acc
 ess - Universität Bern":http://legacy.openaccessweek.org/profile/EvaM
 aurer
END:VEVENT
END:VCALENDAR
