BEGIN:VCALENDAR
PRODID:NingEventWidget-v1
VERSION:2.0
METHOD:PUBLISH
BEGIN:VTIMEZONE
TZID:Pacific/Midway
X-LIC-LOCATION:Pacific/Midway
BEGIN:STANDARD
TZOFFSETFROM:-1100
TZOFFSETTO:-1100
TZNAME:SST
DTSTART:19700101T000000
END:STANDARD
END:VTIMEZONE
BEGIN:VEVENT
UID:5385115:Event:743
DTSTAMP:20260424T003437Z
SUMMARY:Open Access for Earth & Climate Scientists
DESCRIPTION:The training aims to make climate-related research & data 
 more transparent and accessible to society & stakeholders.\nOur strate
 gy is to focus on the real open access carrots for authors: visibility
 , use of research, and more citations.\n \nTake part in 2011 !\n\nCli
 ck to win fee-waivers for the Copernicus and Inter-Research journals &
  publish future peer-reviewed articles in OPEN ACCESS format for FREE 
 ! \n\nPROGRAM:\n\n20 Oct 2010\n14.00 What is OPEN ACCESS?\n14.30 Evide
 nce from the SOAP Project (Study of Open Access Publishing)\nS. Ruiz &
  S. Dallmeier Tiessen, CERN (via videolink)\n\n15.30 OA metrics and th
 e OA Advantage\nStevan Harnad, Un.Montreal (via videolink)\n\n16.00 GR
 EEN or Self-archiving open access\nCatherine Bertignac, UBO\n\n21 Oct 
 2010\n14.30 GOLD open access\nMorgane Le Gall, IFREMER\n\n15.00 Denis-
 Didier Rousseau is replaced by\nCitations for data-only peer-review pu
 blications\nHans Pfeiffenberger, Editor of Earth System Science Data J
 ournal\n\n16.00 Open Access in the European Research Area\nJean-Franco
 is Dechamp, European Commission (via videolink)\n\n17.00 Close\n\n\nSP
 ONSORS:\n\n\n\nThe Otto Kinne Foundation (OKF)\n\nCopernicus Publishin
 g\n\n\n\n\n\nEndorsements:\n\n\nEcole Doctorale IUEM, Brest\n\n\nEUR-O
 CEANS Consortium\n\nScientific Committee on Oceanic Research, SCOR\n\n
 \n\n\nFor more information visit http://legacy.openaccessweek.org/even
 ts/open-access-for-earth-climate
DTSTART;TZID=Pacific/Midway:20101020T140000
DTEND;TZID=Pacific/Midway:20101021T180000
CATEGORIES:training, webinars
LOCATION:Brest, France & globally online
WEBSITE:http://www-iuem.univ-brest.fr/recherche-en/les-publications/op
 enaccess/open-access-week-2010
URL:http://www-iuem.univ-brest.fr/recherche-en/les-publications/openac
 cess/open-access-week-2010
CONTACT:+4521316374
ORGANIZER:Ivo Grigorov (CNRS), Catherine Bertignac (UBO), Dominique Ga
 c (UBO))
ATTACH;FMTTYPE="image/jpeg":http://storage.ning.com/topology/rest/1.0/
 file/get/3057465707?profile=original
ATTENDEE;ROLE=REQ-PARTICIPANT;PARTSTAT=ACCEPTED;RSVP=TRUE;CN="Ivo Grig
 orov":http://legacy.openaccessweek.org/profile/IvoGrigorov
ATTENDEE;ROLE=REQ-PARTICIPANT;PARTSTAT=ACCEPTED;RSVP=TRUE;CN="Marine S
 ciences For Society":http://legacy.openaccessweek.org/profile/MarineSc
 iencesForSociety
ATTENDEE;ROLE=REQ-PARTICIPANT;PARTSTAT=ACCEPTED;RSVP=TRUE;CN="Andrew K
 ing":http://legacy.openaccessweek.org/profile/AndrewKing
ATTENDEE;ROLE=REQ-PARTICIPANT;PARTSTAT=ACCEPTED;RSVP=TRUE;CN="Stevan H
 arnad":http://legacy.openaccessweek.org/profile/StevanHarnad
ATTENDEE;ROLE=REQ-PARTICIPANT;PARTSTAT=ACCEPTED;RSVP=TRUE;CN="yassine 
 gargouri":http://legacy.openaccessweek.org/profile/yassinegargouri
ATTENDEE;ROLE=REQ-PARTICIPANT;PARTSTAT=TENTATIVE;RSVP=TRUE;CN="Ana Tom
 ás":http://legacy.openaccessweek.org/profile/AnaTomas
ATTENDEE;ROLE=REQ-PARTICIPANT;PARTSTAT=TENTATIVE;RSVP=TRUE;CN="Daria M
 artynova":http://legacy.openaccessweek.org/profile/DariaMartynova
ATTENDEE;ROLE=REQ-PARTICIPANT;PARTSTAT=TENTATIVE;RSVP=TRUE;CN="Margare
 th da Silva Copertino":http://legacy.openaccessweek.org/profile/Margar
 ethdaSilvaCopertino
ATTENDEE;ROLE=REQ-PARTICIPANT;PARTSTAT=TENTATIVE;RSVP=TRUE;CN="Wendy C
 lavano":http://legacy.openaccessweek.org/profile/WendyClavano
END:VEVENT
END:VCALENDAR
