BEGIN:VCALENDAR
PRODID:NingEventWidget-v1
VERSION:2.0
METHOD:PUBLISH
BEGIN:VTIMEZONE
TZID:Pacific/Midway
X-LIC-LOCATION:Pacific/Midway
BEGIN:STANDARD
TZOFFSETFROM:-1100
TZOFFSETTO:-1100
TZNAME:SST
DTSTART:19700101T000000
END:STANDARD
END:VTIMEZONE
BEGIN:VEVENT
UID:5385115:Event:161111
DTSTAMP:20260421T002926Z
SUMMARY:Open Access for ACU Researchers @ Australian Catholic Universi
 ty
DESCRIPTION:We know as a researcher it can be hard to know the best wa
 y to take advantage of open access options.\nThis one-hour video confe
 rence will provide you with ideas about open access and the support yo
 u have available to you as ACU Researchers, to ensure wide disseminati
 on of your research without compromising journal choice or publishing 
 contracts.\nOpen Access is the free immediate, online availability of 
 scholarly content, coupled with the rights to use these articles fully
  in the digital environment. Over the past decade, Open Access has bec
 ome central to advancing the interests of researchers, scholars, stude
 nts, business, and the public. Increasingly, institutions that support
  research — from public and private research funders to higher educa
 tion institutions — are implementing policies that require researche
 rs to make articles that report on research generated from their fundi
 ng openly accessible to and fully useable by the public.\nTopics cover
 ed include:\n\nPathways to open access\nOpen Access and Research Funde
 rs \nOpen Data\nSharing your research via Scholarly Collaboration Net
 works\nResources and support available from ACU Library.\n\nPresenter:
 \nSharon Bunce, Senior Research Support Librarian, Brisbane\n\nFor mor
 e information visit http://legacy.openaccessweek.org/events/open-acces
 s-for-acu-researchers-australian-catholic-university
DTSTART;TZID=Pacific/Midway:20171023T120000
DTEND;TZID=Pacific/Midway:20171023T130000
CATEGORIES:online, presentation
LOCATION:Australia
WEBSITE:
URL:
CONTACT:
ORGANIZER;CN="Vanessa Tuckfield":http://legacy.openaccessweek.org/prof
 ile/VanessaTuckfield
ATTACH;FMTTYPE="image/jpeg":
ATTENDEE;ROLE=REQ-PARTICIPANT;PARTSTAT=ACCEPTED;RSVP=TRUE;CN="Vanessa 
 Tuckfield":http://legacy.openaccessweek.org/profile/VanessaTuckfield
END:VEVENT
END:VCALENDAR
