BEGIN:VCALENDAR
PRODID:NingEventWidget-v1
VERSION:2.0
METHOD:PUBLISH
BEGIN:VTIMEZONE
TZID:Pacific/Midway
X-LIC-LOCATION:Pacific/Midway
BEGIN:STANDARD
TZOFFSETFROM:-1100
TZOFFSETTO:-1100
TZNAME:SST
DTSTART:19700101T000000
END:STANDARD
END:VTIMEZONE
BEGIN:VEVENT
UID:5385115:Event:102320
DTSTAMP:20260423T082849Z
SUMMARY:Open Access Explained!
DESCRIPTION:Not sure what Open Access is all about?  Come along to Ul
 wazi in the Library (inside Knowledge Commons) for a video screening t
 o find out more!\n\nFor more information visit http://legacy.openacces
 sweek.org/events/open-access-explained
DTSTART;TZID=Pacific/Midway:20131021T130000
DTEND;TZID=Pacific/Midway:20131021T140000
CATEGORIES:video, screening
LOCATION:Ulwazi training room, Chancellor Oppenheimer Library
WEBSITE:http://openuct.uct.ac.za/events/open-access-week-2013-event-op
 en-access-explained
URL:http://openuct.uct.ac.za/events/open-access-week-2013-event-open-a
 ccess-explained
CONTACT:
ORGANIZER:OpenUCT
ATTACH;FMTTYPE="image/jpeg":
ATTENDEE;ROLE=REQ-PARTICIPANT;PARTSTAT=ACCEPTED;RSVP=TRUE;CN="Sarah G"
 :http://legacy.openaccessweek.org/profile/SarahGoodier
END:VEVENT
END:VCALENDAR
