BEGIN:VCALENDAR
PRODID:NingEventWidget-v1
VERSION:2.0
METHOD:PUBLISH
BEGIN:VTIMEZONE
TZID:Pacific/Midway
X-LIC-LOCATION:Pacific/Midway
BEGIN:STANDARD
TZOFFSETFROM:-1100
TZOFFSETTO:-1100
TZNAME:SST
DTSTART:19700101T000000
END:STANDARD
END:VTIMEZONE
BEGIN:VEVENT
UID:5385115:Event:185490
DTSTAMP:20260421T015035Z
SUMMARY:Open Access Escape Room / Atvirosios prieigos pabėgimo kambar
 ys
DESCRIPTION:Užmirškite laisvai prieinamus mokslo šaltinius! Įsivai
 zduokite, kad šiandien dingo visa laisvai prieinama informacija, žin
 ios internete tapo nepasiekiamos, mokslininkai gilioje panikoje. Pasla
 ptingas piktadarys užrakino visą mokslo informaciją ir įkalino mus
  informacijos trūkumo kalėjime. Padėk išlaisvinti žinias ir susig
 rąžinti atvirąją prieigą! Spyna po spynos išlaisvink mokslo žin
 ias ir išgelbėk mokslininkus nuo informacijos trūkumo. Pabandyk iš
 spręsti piktadario užduotis, atrakinti spynas ir atverti duris į la
 isvą mokslo ir žinių pasaulį.Suburk 2-6 žmonių komandą, registr
 uokis el. paštu rasa.dovidonyte@ktu.lt arba telefonu +370 (37) 300 65
 9. Dalyvauk žaidime*, pasitik iššūkius su bendraminčiais ir suži
 nok daugiau apie atvirąją prieigą!\nFacebook renginys: https://www
 .facebook.com/events/897974723919170/\nOpen Access Escape Room by Kat
 rine Sundsbø is licenced under CC-BY\n\nFor more information visit ht
 tp://legacy.openaccessweek.org/events/open-access-escape-room-atvirosi
 os-prieigos-pab-gimo-kambarys
DTSTART;TZID=Pacific/Midway:20191021T090000
DTEND;TZID=Pacific/Midway:20191025T170000
CATEGORIES:escape, room
LOCATION:Lithuania
WEBSITE:http://ktu.en
URL:http://ktu.en
CONTACT:+37065666621
ORGANIZER;CN="Rasa Dovidonytė":http://legacy.openaccessweek.org/profi
 le/RasaDovidonyte
ATTACH;FMTTYPE="image/jpeg":https://storage.ning.com/topology/rest/1.0
 /file/get/3672940491?profile=original
ATTENDEE;ROLE=REQ-PARTICIPANT;PARTSTAT=ACCEPTED;RSVP=TRUE;CN="Rasa Dov
 idonytė":http://legacy.openaccessweek.org/profile/RasaDovidonyte
END:VEVENT
END:VCALENDAR
