BEGIN:VCALENDAR
PRODID:NingEventWidget-v1
VERSION:2.0
METHOD:PUBLISH
BEGIN:VTIMEZONE
TZID:Pacific/Midway
X-LIC-LOCATION:Pacific/Midway
BEGIN:STANDARD
TZOFFSETFROM:-1100
TZOFFSETTO:-1100
TZNAME:SST
DTSTART:19700101T000000
END:STANDARD
END:VTIMEZONE
BEGIN:VEVENT
UID:5385115:Event:146001
DTSTAMP:20260425T031942Z
SUMMARY:Open Access Discussion Panel at Washington and Lee University 
 Library
DESCRIPTION:Selected Washington and Lee University faculty will talk a
 bout their experiences with Open Access publishing–both from the edi
 torial and authorial perspectives! Discussion facilitated by Digital S
 cholarship Librarian, Alston Cobourn.\nFree and open to the public. C
 ookies provided.\nHeld on Leyburn Library's Main Floor in the \"Book N
 ook.\"\n\nFor more information visit http://legacy.openaccessweek.org/
 events/open-access-discussion-panel-at-washington-and-lee-university
DTSTART;TZID=Pacific/Midway:20161024T163000
DTEND;TZID=Pacific/Midway:20161024T173000
CATEGORIES:discussion, panel
LOCATION:United States of America
WEBSITE:http://library.wlu.edu/about/getting-here/
URL:http://library.wlu.edu/about/getting-here/
CONTACT:
ORGANIZER;CN="Emily Cook":http://legacy.openaccessweek.org/profile/Emi
 lyCook
ATTACH;FMTTYPE="image/jpeg":http://storage.ning.com/topology/rest/1.0/
 file/get/3057578226?profile=original
ATTENDEE;ROLE=REQ-PARTICIPANT;PARTSTAT=ACCEPTED;RSVP=TRUE;CN="Emily Co
 ok":http://legacy.openaccessweek.org/profile/EmilyCook
END:VEVENT
END:VCALENDAR
