BEGIN:VCALENDAR
PRODID:NingEventWidget-v1
VERSION:2.0
METHOD:PUBLISH
BEGIN:VTIMEZONE
TZID:Pacific/Midway
X-LIC-LOCATION:Pacific/Midway
BEGIN:STANDARD
TZOFFSETFROM:-1100
TZOFFSETTO:-1100
TZNAME:SST
DTSTART:19700101T000000
END:STANDARD
END:VTIMEZONE
BEGIN:VEVENT
UID:5385115:Event:116564
DTSTAMP:20260423T154923Z
SUMMARY:Open Access Day in Wroclaw University of Technology
DESCRIPTION:Open Access Day is organised by Center for Scientific and
  Technical Information in Wroclaw University of Technology.\nProgramme
 :\n10.00-10.15 Inauguration (prof. Eugeniusz Rusiński)  10.15-10.30 O
 pen Science in Center for Scientific and Technical Information (dr An
 na Wałek)   10.30-10.40 Wrocław Centre for Networking and Supercomp
 uting (dr Mateusz Tykierko)   10.40-11.40 Open Access Publishing wit
 h Biomed Central (Johanna Kuhn)  11.40-11.50 Discussion  11.50-12.00 C
 offee break  12.00-12.45 What author can/should? (Katarzyna Paprzycka)
   12.45-13.00 Differences between digital library and repository (Nata
 lia Pietrzak, Magdalena Józefiak)  13.00-13.15 Polish Open Science Re
 sources (Karolina Malamis)  13.15-13.35 Open Access in Library (Krzysz
 tof Moskwa)  13.35-13.50 Laboratories Center for Scientific and Techn
 ical Information (dr Damian Derlukiewicz)  13.50-14.15 Summary\n\nFor
  more information visit http://legacy.openaccessweek.org/events/open-a
 ccess-day-in-wroclaw-university-of-technology
DTSTART;TZID=Pacific/Midway:20141022T100000
DTEND;TZID=Pacific/Midway:20141022T141500
CATEGORIES:seminary, open, access, library
LOCATION:Center for Scientific and Technical Information
WEBSITE:
URL:
CONTACT:
ORGANIZER:Center for Scientific and Technical Information
ATTACH;FMTTYPE="image/jpeg":http://storage.ning.com/topology/rest/1.0/
 file/get/3057547519?profile=original
ATTENDEE;ROLE=REQ-PARTICIPANT;PARTSTAT=ACCEPTED;RSVP=TRUE;CN="Lukasz B
 ejnar":http://legacy.openaccessweek.org/profile/LukaszBejnar
END:VEVENT
END:VCALENDAR
