BEGIN:VCALENDAR
PRODID:NingEventWidget-v1
VERSION:2.0
METHOD:PUBLISH
BEGIN:VTIMEZONE
TZID:Pacific/Midway
X-LIC-LOCATION:Pacific/Midway
BEGIN:STANDARD
TZOFFSETFROM:-1100
TZOFFSETTO:-1100
TZNAME:SST
DTSTART:19700101T000000
END:STANDARD
END:VTIMEZONE
BEGIN:VEVENT
UID:5385115:Event:101474
DTSTAMP:20260423T054430Z
SUMMARY:Open Access Comedy Film Fest
DESCRIPTION:In the spirit of celebrating online, unrestricted access t
 o information, MacEwan University Library is hosting an Open Access C
 omedy Film Festival.\nAlong with information about the Open Access to 
 Research movement, this event will feature short public domain films s
 hown daily in the Library. Free popcorn and candy will be provided!\nW
 hen: Daily, Oct. 21-25, 12:15 p.m. - 12:45 p. m.Where: MacEwan Univers
 ity Library, City Centre Campus, Room 7-202A\nFilm Fest schedule:\n\nM
 onday, Oct. 21: Popeye in “Aladdin and His Wonderful Lamp”\nTuesda
 y, Oct. 22: Charlie Chaplin in “The Rink”\nWednesday, Oct. 23: Bus
 ter Keaton in “One Week”\nThursday, Oct. 24: W. C. Fields in “T
 he Fatal Glass of Beer”\nFriday, Oct. 25: The Three stooges in “D
 isorder in the Court”\n\n\nFor more information visit http://legacy.
 openaccessweek.org/events/open-access-comedy-film-fest
DTSTART;TZID=Pacific/Midway:20131021T121500
DTEND;TZID=Pacific/Midway:20131025T124500
CATEGORIES:"film festival"
LOCATION:MacEwan University Library, City Centre Campus
WEBSITE:https://maps.google.ca/maps?ie=UTF8&q=grant+macewan+university
 &fb=1&gl=ca&hq=macewan+university&hnear=0x53a0224580deff23:0x411fa00c4
 af6155d,Edmonton,+AB&cid=10847773759030836400&ll=53.546797,-113.504734
 &spn=0.007586,0.021136&t=m&z=16&vpsrc=0&iwloc=A
URL:https://maps.google.ca/maps?ie=UTF8&q=grant+macewan+university&fb=
 1&gl=ca&hq=macewan+university&hnear=0x53a0224580deff23:0x411fa00c4af61
 55d,Edmonton,+AB&cid=10847773759030836400&ll=53.546797,-113.504734&spn
 =0.007586,0.021136&t=m&z=16&vpsrc=0&iwloc=A
CONTACT:
ORGANIZER;CN="Robyn Hall":http://legacy.openaccessweek.org/profile/Rob
 ynHall639
ATTACH;FMTTYPE="image/jpeg":http://storage.ning.com/topology/rest/1.0/
 file/get/3057527590?profile=original
ATTENDEE;ROLE=REQ-PARTICIPANT;PARTSTAT=ACCEPTED;RSVP=TRUE;CN="Robyn Ha
 ll":http://legacy.openaccessweek.org/profile/RobynHall639
END:VEVENT
END:VCALENDAR
