BEGIN:VCALENDAR
PRODID:NingEventWidget-v1
VERSION:2.0
METHOD:PUBLISH
BEGIN:VTIMEZONE
TZID:Pacific/Midway
X-LIC-LOCATION:Pacific/Midway
BEGIN:STANDARD
TZOFFSETFROM:-1100
TZOFFSETTO:-1100
TZNAME:SST
DTSTART:19700101T000000
END:STANDARD
END:VTIMEZONE
BEGIN:VEVENT
UID:5385115:Event:148848
DTSTAMP:20260422T085949Z
SUMMARY:Open Access Chat
DESCRIPTION:Chat with the university library's Open Access team to get
  answers on your questions!\nWhen? Monday to Friday from 10 a.m. to 4 
 p.m.\nHow? http://www.ub.tu-berlin.de/chat/\nAsk us anything on Open A
 ccess, both in German or English!\n------\nWährend der Open-Access-Wo
 che steht das Open-Access-Team der Universitätsbibliothek über den U
 B-Chat für Ihre Fragen zur Verfügung.\nWann? Mo–Fr 10–16 Uhr\nWi
 e? http://www.ub.tu-berlin.de/chat/\n\nFor more information visit http
 ://legacy.openaccessweek.org/events/open-access-chat
DTSTART;TZID=Pacific/Midway:20161024T100000
DTEND;TZID=Pacific/Midway:20161028T160000
CATEGORIES:online, chat
LOCATION:4
WEBSITE:https://www.ub.tu-berlin.de/en/publishing/open-access/open-acc
 ess-week-2016/
URL:https://www.ub.tu-berlin.de/en/publishing/open-access/open-access-
 week-2016/
CONTACT:
ORGANIZER:Universitätsbibliothek der TU Berlin
ATTACH;FMTTYPE="image/jpeg":
ATTENDEE;ROLE=REQ-PARTICIPANT;PARTSTAT=ACCEPTED;RSVP=TRUE;CN="Michaela
  Voigt":http://legacy.openaccessweek.org/profile/MichaelaVoigt
END:VEVENT
END:VCALENDAR
