BEGIN:VCALENDAR
PRODID:NingEventWidget-v1
VERSION:2.0
METHOD:PUBLISH
BEGIN:VTIMEZONE
TZID:Pacific/Midway
X-LIC-LOCATION:Pacific/Midway
BEGIN:STANDARD
TZOFFSETFROM:-1100
TZOFFSETTO:-1100
TZNAME:SST
DTSTART:19700101T000000
END:STANDARD
END:VTIMEZONE
BEGIN:VEVENT
UID:5385115:Event:90926
DTSTAMP:20260419T085608Z
SUMMARY:Open Access : authors, publishers, investors and institutions 
 in the service of the dissemination of the scientific research's resul
 ts
DESCRIPTION:For the past 10 years, the Open Access movement has been d
 efending the principle of free accessibility to the scientific literat
 ure for everyone.\n\nWho are the Open Access’s actors ?\nWhich are 
 the economic models and their stakes ?\nWhy publish in Open Access ?
 \nHow do institutions pay for publication in Open Access ?\n\nThose q
 uestions will be addressed from various points of view (publishers, ac
 ademic institutions, investors and authors) through conferences.\n\nSp
 eakers: 10 am to 7 pm\nDr James Milne, Executive Director, Royal Socie
 ty of Chemistry (RSC), \"Supporting engagement in Open Access - A Publ
 ishers perspective\".\nPierre Devaud (MSc) et Dr Alain Borel, Scientif
 ic Librarians, Bibliothèque de l'EPFL /  Infoscience, \"Infoscience,
  EPFL's institutional repository: facts and prospects\"\nDr Xenia van 
 Edig, Business Development, Copernicus, \"Innovative Open Access Publi
 shing and Public Peer-Review - Views and Experiences of Copernicus Pub
 lications\".\nDr Dagmar Meyer, Policy Adviser, European Research Counc
 il (ERC)\nDr Daniel Höchli, Director of the Admistrative Offices, Swi
 ss National Science Foundation (SNSF), \"Fostering Open Access: Strate
 gies and Activities of SNSF\"\nDr Kamila Markram, Co-founder and Chair
 man and Chief Executive Officer, Frontiers.\n\nFor more information vi
 sit http://legacy.openaccessweek.org/events/open-access-authors-publis
 hers-investors-and-institutions-in-the
DTSTART;TZID=Pacific/Midway:20131024T100000
DTEND;TZID=Pacific/Midway:20131024T190000
CATEGORIES:conference
LOCATION:Forum Rolex Learning Center Campus EPFL
WEBSITE:http://library2.epfl.ch/conference_open_access/eng
URL:http://library2.epfl.ch/conference_open_access/eng
CONTACT:
ORGANIZER:EPFL Library
ATTACH;FMTTYPE="image/jpeg":
ATTENDEE;ROLE=REQ-PARTICIPANT;PARTSTAT=ACCEPTED;RSVP=TRUE;CN="Gozde Zo
 rlu":http://legacy.openaccessweek.org/profile/GozdeZorlu
ATTENDEE;ROLE=REQ-PARTICIPANT;PARTSTAT=ACCEPTED;RSVP=TRUE;CN="Brietta 
 Pike":http://legacy.openaccessweek.org/profile/BriettaPike
ATTENDEE;ROLE=REQ-PARTICIPANT;PARTSTAT=ACCEPTED;RSVP=TRUE;CN=EPFL:http
 ://legacy.openaccessweek.org/profile/EPFL
END:VEVENT
END:VCALENDAR
