BEGIN:VCALENDAR
PRODID:NingEventWidget-v1
VERSION:2.0
METHOD:PUBLISH
BEGIN:VTIMEZONE
TZID:Pacific/Midway
X-LIC-LOCATION:Pacific/Midway
BEGIN:STANDARD
TZOFFSETFROM:-1100
TZOFFSETTO:-1100
TZNAME:SST
DTSTART:19700101T000000
END:STANDARD
END:VTIMEZONE
BEGIN:VEVENT
UID:5385115:Event:138909
DTSTAMP:20260424T023536Z
SUMMARY:Open Access and the politics of publishing, University of KwaZ
 ulu-Natal, 20 Oct 2015
DESCRIPTION:UKZN Library is celebrating its second event on Open Acces
 s advocacy. Open Access and the politics of publishing by Mr Grahame H
 ayes. View video recording.\n\nFor more information visit http://lega
 cy.openaccessweek.org/events/open-access-and-the-politics-of-publishin
 g-university-of-kwazulu
DTSTART;TZID=Pacific/Midway:20151020T140000
DTEND;TZID=Pacific/Midway:20151020T150000
CATEGORIES:seminar
LOCATION:South Africa
WEBSITE:
URL:
CONTACT:
ORGANIZER:Faith Bhengu
ATTACH;FMTTYPE="image/jpeg":
ATTENDEE;ROLE=REQ-PARTICIPANT;PARTSTAT=ACCEPTED;RSVP=TRUE;CN="Ina Smit
 h":http://legacy.openaccessweek.org/profile/InaSmith784
END:VEVENT
END:VCALENDAR
