BEGIN:VCALENDAR
PRODID:NingEventWidget-v1
VERSION:2.0
METHOD:PUBLISH
BEGIN:VTIMEZONE
TZID:Pacific/Midway
X-LIC-LOCATION:Pacific/Midway
BEGIN:STANDARD
TZOFFSETFROM:-1100
TZOFFSETTO:-1100
TZNAME:SST
DTSTART:19700101T000000
END:STANDARD
END:VTIMEZONE
BEGIN:VEVENT
UID:5385115:Event:117843
DTSTAMP:20260421T024833Z
SUMMARY:Open Access and the Health Professions
DESCRIPTION:Health Sciences students at Gettysburg College have bounti
 ful access to scholarly and medical publications, but what happens aft
 er graduation? When you enter a health profession, will you be able to
  access the information you need to make informed decisions on the job
 ?\nStudents are asking hard questions about the cost of information, w
 ho pays, and why it matters (see this SURGE blog post for one perspect
 ive: Information – Access:Denied). Learn more about the publishing 
 system that fuels your learning, including the growing importance of 
 open access” publishing.\nPlease join us for a fun program during 
 Open Access Week. This is NOT a lecture!\n\nFeed your body – we’ll
  decorate and eat OPEN ACCESS COOKIES\nNourish your mind – discover
  the real cost of articles in your field and learn how Open Access imp
 acts medical education and patient care\nSatisfy your curiosity – ta
 lk with Prof. Amy Dailey about her experiences publishing in both co
 nventional and open access journals\n\nThis special event was designed
  for the Pre-Health Professions Club and is open to anyone interested 
 in the topic.\n\nFor more information visit http://legacy.openaccesswe
 ek.org/events/open-access-and-the-health-professions
DTSTART;TZID=Pacific/Midway:20141022T190000
DTEND;TZID=Pacific/Midway:20141022T203000
CATEGORIES:presentation, club, activity
LOCATION:Gettysburg College
WEBSITE:http://cupola.gettysburg.edu/oaweek/2014/oaschedule2014/5/
URL:http://cupola.gettysburg.edu/oaweek/2014/oaschedule2014/5/
CONTACT:
ORGANIZER;CN="Janelle Wertzberger":http://legacy.openaccessweek.org/pr
 ofile/JanelleWertzberger
ATTACH;FMTTYPE="image/jpeg":
ATTENDEE;ROLE=REQ-PARTICIPANT;PARTSTAT=ACCEPTED;RSVP=TRUE;CN="Janelle 
 Wertzberger":http://legacy.openaccessweek.org/profile/JanelleWertzberg
 er
END:VEVENT
END:VCALENDAR
