BEGIN:VCALENDAR
PRODID:NingEventWidget-v1
VERSION:2.0
METHOD:PUBLISH
BEGIN:VTIMEZONE
TZID:Pacific/Midway
X-LIC-LOCATION:Pacific/Midway
BEGIN:STANDARD
TZOFFSETFROM:-1100
TZOFFSETTO:-1100
TZNAME:SST
DTSTART:19700101T000000
END:STANDARD
END:VTIMEZONE
BEGIN:VEVENT
UID:5385115:Event:89874
DTSTAMP:20260424T121146Z
SUMMARY:Open Access and Research Conference 2013
DESCRIPTION:Queensland University of Technology (QUT) is hosting the O
 pen Access and Research Conference 2013, in Brisbane (Australia) from 
 31 October to 1 November.\n \nThe conference is an opportunity to tak
 e stock of recent developments in Open Access and to discuss the strat
 egic advantages these bring to the research sector moving forward. The
  conference theme Discovery, Impact and Innovation examines these deve
 lopments and looks ahead, to how these emerging systems of scholarly c
 ommunication can maximise research impact and help realise the full be
 nefits of public research worldwide.\n \nThe program includes speaker
 s from the United States, Europe, Asia and Australia, as well as a num
 ber of thematic sessions focusing on issues such as advocacy, alternat
 ive metrics, open data and open access publishing. Pre-conference work
 shops will also be held on Wednesday 30 October.\n \nFor more informa
 tion and to register, go to www.oar2013.qut.edu.au or email oar2013@qu
 t.edu.au\n\nFor more information visit http://legacy.openaccessweek.or
 g/events/open-access-and-research-conference-2013
DTSTART;TZID=Pacific/Midway:20131031T000000
DTEND;TZID=Pacific/Midway:20131101T235900
CATEGORIES:conference
LOCATION:Science and Engineering Centre
WEBSITE:http://www.oar2013.qut.edu.au/
URL:http://www.oar2013.qut.edu.au/
CONTACT:
ORGANIZER:Queensland University of Technology
ATTACH;FMTTYPE="image/jpeg":http://storage.ning.com/topology/rest/1.0/
 file/get/3057515235?profile=original
ATTENDEE;ROLE=REQ-PARTICIPANT;PARTSTAT=ACCEPTED;RSVP=TRUE;CN="K. Jane 
 Burpee":http://legacy.openaccessweek.org/profile/KJaneBurpee
ATTENDEE;ROLE=REQ-PARTICIPANT;PARTSTAT=ACCEPTED;RSVP=TRUE;CN="Stevan H
 arnad":http://legacy.openaccessweek.org/profile/StevanHarnad
ATTENDEE;ROLE=REQ-PARTICIPANT;PARTSTAT=ACCEPTED;RSVP=TRUE;CN="Paula Ca
 llan":http://legacy.openaccessweek.org/profile/PaulaCallan
END:VEVENT
END:VCALENDAR
