BEGIN:VCALENDAR
PRODID:NingEventWidget-v1
VERSION:2.0
METHOD:PUBLISH
BEGIN:VTIMEZONE
TZID:Pacific/Midway
X-LIC-LOCATION:Pacific/Midway
BEGIN:STANDARD
TZOFFSETFROM:-1100
TZOFFSETTO:-1100
TZNAME:SST
DTSTART:19700101T000000
END:STANDARD
END:VTIMEZONE
BEGIN:VEVENT
UID:5385115:Event:72569
DTSTAMP:20260421T010729Z
SUMMARY:Open Access and open practices for researchers
DESCRIPTION:Course description\nThis seminar, which marks the launch o
 f the Social Media programme for researchers, will take place during O
 pen Access Week, with presentations from Brian Kelly and Ross Mounce.\
 nBrian Kelly, UKOLN will describe his approaches in using social media
  to maximise awareness of his peer-reviewed papers and the evidence-ga
 thering approaches which demonstrate the effectiveness of the approach
 es.\nRoss Mounce, PhD student and Open Knowledge Foundation Panton Fel
 low at the University of Bath, will talk about the need for true Open 
 Access (as originally defined), why it matters and the plethora of opt
 ions we have for OA publishing.\n\nFor more information visit http://l
 egacy.openaccessweek.org/events/open-access-and-open-practices-for-res
 earchers
DTSTART;TZID=Pacific/Midway:20121026T123000
DTEND;TZID=Pacific/Midway:20121026T133000
CATEGORIES:workshop, "(university", of, bath, staff, "&", students, "o
 nly)"
LOCATION:University of Bath, UK
WEBSITE:http://www.bath.ac.uk/learningandteaching/rdu/courses/pgskills
 /modules/RP00285.htm
URL:http://www.bath.ac.uk/learningandteaching/rdu/courses/pgskills/mod
 ules/RP00285.htm
CONTACT:
ORGANIZER:Ross Mounce, Brian Kelly & Tracey Stead
ATTACH;FMTTYPE="image/jpeg":
ATTENDEE;ROLE=REQ-PARTICIPANT;PARTSTAT=ACCEPTED;RSVP=TRUE;CN="Brian Ke
 lly":http://legacy.openaccessweek.org/profile/BrianKelly
ATTENDEE;ROLE=REQ-PARTICIPANT;PARTSTAT=ACCEPTED;RSVP=TRUE;CN="Ross Mou
 nce":http://legacy.openaccessweek.org/profile/RossMounce
ATTENDEE;ROLE=REQ-PARTICIPANT;PARTSTAT=TENTATIVE;RSVP=TRUE;CN="Eva Ams
 en":http://legacy.openaccessweek.org/profile/EvaAmsen
END:VEVENT
END:VCALENDAR
