BEGIN:VCALENDAR
PRODID:NingEventWidget-v1
VERSION:2.0
METHOD:PUBLISH
BEGIN:VTIMEZONE
TZID:Pacific/Midway
X-LIC-LOCATION:Pacific/Midway
BEGIN:STANDARD
TZOFFSETFROM:-1100
TZOFFSETTO:-1100
TZNAME:SST
DTSTART:19700101T000000
END:STANDARD
END:VTIMEZONE
BEGIN:VEVENT
UID:5385115:Event:158388
DTSTAMP:20260423T072454Z
SUMMARY:Make Your Next Article Open Access - What's in it for you?
DESCRIPTION:Join librarian Rumi Graham as she discusses the benefits o
 f open access publishing for researchers. \nThis event will take plac
 e in room L1114, located on the 11th floor of the University of Lethbr
 idge Library. \n\nFor more information visit http://legacy.openaccess
 week.org/events/open-access-and-copyright-1
DTSTART;TZID=Pacific/Midway:20171027T120000
DTEND;TZID=Pacific/Midway:20171027T130000
CATEGORIES:talk
LOCATION:00
WEBSITE:
URL:
CONTACT:
ORGANIZER;CN="Tara Wiebe":http://legacy.openaccessweek.org/profile/Tar
 aWiebe
ATTACH;FMTTYPE="image/jpeg":
ATTENDEE;ROLE=REQ-PARTICIPANT;PARTSTAT=ACCEPTED;RSVP=TRUE;CN="Tara Wie
 be":http://legacy.openaccessweek.org/profile/TaraWiebe
END:VEVENT
END:VCALENDAR
