BEGIN:VCALENDAR
PRODID:NingEventWidget-v1
VERSION:2.0
METHOD:PUBLISH
BEGIN:VTIMEZONE
TZID:Pacific/Midway
X-LIC-LOCATION:Pacific/Midway
BEGIN:STANDARD
TZOFFSETFROM:-1100
TZOFFSETTO:-1100
TZNAME:SST
DTSTART:19700101T000000
END:STANDARD
END:VTIMEZONE
BEGIN:VEVENT
UID:5385115:Event:76936
DTSTAMP:20260421T044634Z
SUMMARY:Open Access 101 and Introduction to Open Access Publishing
DESCRIPTION:\n\nTwo representatives from the U of A Libraries will be 
 on hand to discuss key open access concepts, including open access tre
 nds, benefits of open access and publishing practices in open access j
 ournals. Students and faculty from all disciplines are welcome to atte
 nd this session.\nTime: 12:30-1:30pm\nPlace: Education South 122\n\n
 \nFor more information visit http://legacy.openaccessweek.org/events/o
 pen-access-101-and-introduction-to-open-access-publishing
DTSTART;TZID=Pacific/Midway:20121025T123000
DTEND;TZID=Pacific/Midway:20121025T133000
CATEGORIES:lecture
LOCATION:Education South 122, University of Alberta
WEBSITE:http://guides.library.ualberta.ca/content.php?pid=45302&sid=31
 17074
URL:http://guides.library.ualberta.ca/content.php?pid=45302&sid=311707
 4
CONTACT:
ORGANIZER;CN="Nicole Dalmer":http://legacy.openaccessweek.org/profile/
 NicoleDalmer
ATTACH;FMTTYPE="image/jpeg":
ATTENDEE;ROLE=REQ-PARTICIPANT;PARTSTAT=ACCEPTED;RSVP=TRUE;CN="Nicole D
 almer":http://legacy.openaccessweek.org/profile/NicoleDalmer
END:VEVENT
END:VCALENDAR
