BEGIN:VCALENDAR
PRODID:NingEventWidget-v1
VERSION:2.0
METHOD:PUBLISH
BEGIN:VTIMEZONE
TZID:Pacific/Midway
X-LIC-LOCATION:Pacific/Midway
BEGIN:STANDARD
TZOFFSETFROM:-1100
TZOFFSETTO:-1100
TZNAME:SST
DTSTART:19700101T000000
END:STANDARD
END:VTIMEZONE
BEGIN:VEVENT
UID:5385115:Event:107861
DTSTAMP:20260422T215116Z
SUMMARY:Online Global Science Fair
DESCRIPTION:Share your research with the world, or browse research acr
 oss disciplines through short (5 minute) videos.  WeShareScience is h
 osting the world first global online science fair (@ www.wesharescienc
 e.com).  Entries are due by June 1st.\n\nFor more information visit h
 ttp://legacy.openaccessweek.org/events/online-global-science-fair
DTSTART;TZID=Pacific/Midway:20140331T180000
DTEND;TZID=Pacific/Midway:20140601T010000
CATEGORIES:science, fair
LOCATION:www.WeShareScience.com
WEBSITE:
URL:
CONTACT:
ORGANIZER;CN="Ryan Watkins":http://legacy.openaccessweek.org/profile/R
 yanWatkins
ATTACH;FMTTYPE="image/jpeg":http://storage.ning.com/topology/rest/1.0/
 file/get/3057532597?profile=original
ATTENDEE;ROLE=REQ-PARTICIPANT;PARTSTAT=ACCEPTED;RSVP=TRUE;CN="Ryan Wat
 kins":http://legacy.openaccessweek.org/profile/RyanWatkins
END:VEVENT
END:VCALENDAR
