BEGIN:VCALENDAR
PRODID:NingEventWidget-v1
VERSION:2.0
METHOD:PUBLISH
BEGIN:VTIMEZONE
TZID:Pacific/Midway
X-LIC-LOCATION:Pacific/Midway
BEGIN:STANDARD
TZOFFSETFROM:-1100
TZOFFSETTO:-1100
TZNAME:SST
DTSTART:19700101T000000
END:STANDARD
END:VTIMEZONE
BEGIN:VEVENT
UID:5385115:Event:292085
DTSTAMP:20260422T171643Z
SUMMARY:#OAweek2021 at the KPI Library
DESCRIPTION:Events that will be held on the online and offline platfor
 ms of the KPI Library:\n25th of October, 16:00 Online event in the fo
 rmat of Q&A session  – «Open Science. Open Access. Open Data».\n2
 6th of October, 16:00 Webinar «Editorial Policy for Research Data S
 haring: Development and Implementation».\n27th of October, 16:00 We
 binar «Vancouver style – international style of citation and refere
 nces in scientific papers».\n28th of October, 16:00 Webinar «How t
 o find information for learning and research in open access».\n29th 
 of October, 15:00 Master class «Ways of downloading materials to the
  Igor Sikorsky KPI electronic archive (ELAKPI)».\n\n\n\nFor more info
 rmation visit http://legacy.openaccessweek.org/events/oaweek2021-at-th
 e-kpi-library
DTSTART;TZID=Pacific/Midway:20211025T160000
DTEND;TZID=Pacific/Midway:20211029T160000
CATEGORIES:webinars
LOCATION:Ukraine
WEBSITE:https://www.library.kpi.ua/
URL:https://www.library.kpi.ua/
CONTACT:+38 (044) 204-82-75
ORGANIZER;CN="Evgeniia Kulyk":http://legacy.openaccessweek.org/profile
 /EvgeniiaKulyk
ATTACH;FMTTYPE="image/jpeg":https://storage.ning.com/topology/rest/1.0
 /file/get/9726710261?profile=original
ATTENDEE;ROLE=REQ-PARTICIPANT;PARTSTAT=ACCEPTED;RSVP=TRUE;CN="Evgeniia
  Kulyk":http://legacy.openaccessweek.org/profile/EvgeniiaKulyk
END:VEVENT
END:VCALENDAR
