BEGIN:VCALENDAR
PRODID:NingEventWidget-v1
VERSION:2.0
METHOD:PUBLISH
BEGIN:VTIMEZONE
TZID:Pacific/Midway
X-LIC-LOCATION:Pacific/Midway
BEGIN:STANDARD
TZOFFSETFROM:-1100
TZOFFSETTO:-1100
TZNAME:SST
DTSTART:19700101T000000
END:STANDARD
END:VTIMEZONE
BEGIN:VEVENT
UID:5385115:Event:291789
DTSTAMP:20260421T030403Z
SUMMARY:#OAweek2021 at the Gdańsk University of Technology, Poland
DESCRIPTION:Gdańsk University of Technology Library will present a se
 ries of events with topics related to open publishing, open science an
 d data sharing such as: tematical posts and tweets prepared by the Lib
 rary branches, infopoint on OA resources in the hall of the Main Build
 ing, posters on OA, special computer stations with OA databases and re
 sources prepared and ready in every Library branch, webinars (in Polis
 h) for scientists and librarians on OA publishing and Data Management 
 Plans. \n\nFor more information visit http://legacy.openaccessweek.or
 g/events/oaweek2021-at-the-gda-sk-university-of-technology-poland
DTSTART;TZID=Pacific/Midway:20211025T070000
DTEND;TZID=Pacific/Midway:20211031T190000
CATEGORIES:open, access, week
LOCATION:Poland
WEBSITE:https://pg.edu.pl/biblioteka-pg/main_page
URL:https://pg.edu.pl/biblioteka-pg/main_page
CONTACT:
ORGANIZER:Gdańsk University of Technology Library
ATTACH;FMTTYPE="image/jpeg":
ATTENDEE;ROLE=REQ-PARTICIPANT;PARTSTAT=ACCEPTED;RSVP=TRUE;CN="Katarzyn
 a Dudek":http://legacy.openaccessweek.org/profile/KatarzynaDudek
END:VEVENT
END:VCALENDAR
