BEGIN:VCALENDAR
PRODID:NingEventWidget-v1
VERSION:2.0
METHOD:PUBLISH
BEGIN:VTIMEZONE
TZID:Pacific/Midway
X-LIC-LOCATION:Pacific/Midway
BEGIN:STANDARD
TZOFFSETFROM:-1100
TZOFFSETTO:-1100
TZNAME:SST
DTSTART:19700101T000000
END:STANDARD
END:VTIMEZONE
BEGIN:VEVENT
UID:5385115:Event:135403
DTSTAMP:20260422T173515Z
SUMMARY:OA Week Information Displays -Oklahoma State University Librar
 ies
DESCRIPTION:Two information tables and displays in south lobby to high
 light open access and open educational resources/open textbooks. Staff
 ing the tables from 12-4pm M-F to share and talk to students and facul
 ty.\n\nFor more information visit http://legacy.openaccessweek.org/eve
 nts/oa-week-information-displays-oklahoma-state-university-libraries
DTSTART;TZID=Pacific/Midway:20151019T000000
DTEND;TZID=Pacific/Midway:20151023T235900
CATEGORIES:information, display, table
LOCATION:United States of America
WEBSITE:
URL:
CONTACT:
ORGANIZER;CN="Dan Chaney":http://legacy.openaccessweek.org/profile/Dan
 Chaney
ATTACH;FMTTYPE="image/jpeg":
ATTENDEE;ROLE=REQ-PARTICIPANT;PARTSTAT=ACCEPTED;RSVP=TRUE;CN="Dan Chan
 ey":http://legacy.openaccessweek.org/profile/DanChaney
END:VEVENT
END:VCALENDAR
