BEGIN:VCALENDAR
PRODID:NingEventWidget-v1
VERSION:2.0
METHOD:PUBLISH
BEGIN:VTIMEZONE
TZID:Pacific/Midway
X-LIC-LOCATION:Pacific/Midway
BEGIN:STANDARD
TZOFFSETFROM:-1100
TZOFFSETTO:-1100
TZNAME:SST
DTSTART:19700101T000000
END:STANDARD
END:VTIMEZONE
BEGIN:VEVENT
UID:5385115:Event:175106
DTSTAMP:20260421T043739Z
SUMMARY:OA Week at Oklahoma State University
DESCRIPTION:Oklahoma State University, Edmon Low Library, Room 109H\n\
 "Increase the Visibility of Your Scholarship\"\nThis session will prov
 ide a general overview of open access in the context of changes in the
  political, technological, and economic landscape of scholarly publish
 ing. We will focus particularly on “green” open access, where non-
 open access publishers permit authors to retain the right to deposit t
 he reviewed version of their articles and book chapters to an institut
 ional repository. Find out how you can leverage your rights and utiliz
 e SHAREOK, the OSU repository, to increase the visibility and impact o
 f your scholarship.\n\nFor more information visit http://legacy.openac
 cessweek.org/events/oa-week-at-oklahoma-state-university
DTSTART;TZID=Pacific/Midway:20181022T120000
DTEND;TZID=Pacific/Midway:20181022T130000
CATEGORIES:presentation
LOCATION:United States of America
WEBSITE:https://okstate.libcal.com/event/4693964
URL:https://okstate.libcal.com/event/4693964
CONTACT:
ORGANIZER:Clarke Iakovakis
ATTACH;FMTTYPE="image/jpeg":http://storage.ning.com/topology/rest/1.0/
 file/get/3057617427?profile=original
ATTENDEE;ROLE=REQ-PARTICIPANT;PARTSTAT=ACCEPTED;RSVP=TRUE;CN="Kathy Es
 smiller":http://legacy.openaccessweek.org/profile/KathyEssmiller
END:VEVENT
END:VCALENDAR
