BEGIN:VCALENDAR
PRODID:NingEventWidget-v1
VERSION:2.0
METHOD:PUBLISH
BEGIN:VTIMEZONE
TZID:Pacific/Midway
X-LIC-LOCATION:Pacific/Midway
BEGIN:STANDARD
TZOFFSETFROM:-1100
TZOFFSETTO:-1100
TZNAME:SST
DTSTART:19700101T000000
END:STANDARD
END:VTIMEZONE
BEGIN:VEVENT
UID:5385115:Event:176646
DTSTAMP:20260420T080748Z
SUMMARY:OA to publications by IEEE
DESCRIPTION:The Library of Poznań University of Technology organizes 
 a  workshop on \"Publishing in OA with  IEEE\".\n\nFor more informat
 ion visit http://legacy.openaccessweek.org/events/oa-to-publications-b
 y-ieee
DTSTART;TZID=Pacific/Midway:20181023T110000
DTEND;TZID=Pacific/Midway:20181023T120000
CATEGORIES:workshop
LOCATION:Poland
WEBSITE:http://library.put.poznan.pl/pl/4_01_05
URL:http://library.put.poznan.pl/pl/4_01_05
CONTACT:
ORGANIZER:Anna Abramowska, EBSCO
ATTACH;FMTTYPE="image/jpeg":
ATTENDEE;ROLE=REQ-PARTICIPANT;PARTSTAT=TENTATIVE;RSVP=TRUE;CN="Marzena
  Marcinek":http://legacy.openaccessweek.org/profile/MarzenaMarcinek
END:VEVENT
END:VCALENDAR
