BEGIN:VCALENDAR
PRODID:NingEventWidget-v1
VERSION:2.0
METHOD:PUBLISH
BEGIN:VTIMEZONE
TZID:Pacific/Midway
X-LIC-LOCATION:Pacific/Midway
BEGIN:STANDARD
TZOFFSETFROM:-1100
TZOFFSETTO:-1100
TZNAME:SST
DTSTART:19700101T000000
END:STANDARD
END:VTIMEZONE
BEGIN:VEVENT
UID:5385115:Event:100091
DTSTAMP:20260425T165037Z
SUMMARY:OA: REDEFINING ACCESS TO KNOWLEDGE
DESCRIPTION:OA: REDEFINING ACCESS TO KNOWLEDGE\n\n\nIndian Institute o
 f Management and Commerce, Hyderabad ( India) jointly with Knowledge C
 onnect for Empowerment (A registered Society) is organising a ONE DAY 
 PROGRAM ON Sunday 27 October 2013 at HYDERABAD, INDIA.\n \nIN THIS pr
 ogram there will be presentations on various types of OA resources by 
 experts. There will be a discussion on strategies to enhanced use of O
 A resources. it will also discuss the role of Librarians and action pl
 ans for publicity and providing access.\n \nI invite every one to att
 end, If any one want to send any presentation, we will make a copy and
  distribute for wider publicity.\n \nI welcome ur suggestions.\n\n\n\
 n\n\nFor more information visit http://legacy.openaccessweek.org/event
 s/oa-redefining-access-to-knowledge
DTSTART;TZID=Pacific/Midway:20131027T000000
DTEND;TZID=Pacific/Midway:20131027T235900
CATEGORIES:presentations, and, discussion
LOCATION:INDIAN INSTITUTE OF MANAGEMENT AND COMMERCE
WEBSITE:
URL:
CONTACT:91-9246547599
ORGANIZER;CN="Prof Nagubandi Laxman Rao":http://legacy.openaccessweek.
 org/profile/ProfNagubandiLaxmanRao
ATTACH;FMTTYPE="image/jpeg":
ATTENDEE;ROLE=REQ-PARTICIPANT;PARTSTAT=ACCEPTED;RSVP=TRUE;CN="Prof Nag
 ubandi Laxman Rao":http://legacy.openaccessweek.org/profile/ProfNaguba
 ndiLaxmanRao
END:VEVENT
END:VCALENDAR
