BEGIN:VCALENDAR
PRODID:NingEventWidget-v1
VERSION:2.0
METHOD:PUBLISH
BEGIN:VTIMEZONE
TZID:Pacific/Midway
X-LIC-LOCATION:Pacific/Midway
BEGIN:STANDARD
TZOFFSETFROM:-1100
TZOFFSETTO:-1100
TZNAME:SST
DTSTART:19700101T000000
END:STANDARD
END:VTIMEZONE
BEGIN:VEVENT
UID:5385115:Event:177458
DTSTAMP:20260423T063412Z
SUMMARY:OA general information and an e-course
DESCRIPTION:The Library of Cracow University of Technology has prepare
 d information about OA on its homepage and an OA e-course on the paren
 t university e-learning platform. They will be accessible 24/7 till th
 e next OA week and then modified as required.\n\nFor more information 
 visit http://legacy.openaccessweek.org/events/oa-general-information-a
 nd-an-e-course
DTSTART;TZID=Pacific/Midway:20191010T080000
DTEND;TZID=Pacific/Midway:20191101T234500
CATEGORIES:homepage, e-course
LOCATION:Poland
WEBSITE:https://www.biblos.pk.edu.pl/nauka/otwarty-dostep-open-access/
 instytucjonalna-polityka-otwartego-dostepu
URL:https://www.biblos.pk.edu.pl/nauka/otwarty-dostep-open-access/inst
 ytucjonalna-polityka-otwartego-dostepu
CONTACT:
ORGANIZER:The Library of Cracow University of Technology
ATTACH;FMTTYPE="image/jpeg":
ATTENDEE;ROLE=REQ-PARTICIPANT;PARTSTAT=ACCEPTED;RSVP=TRUE;CN="Marzena 
 Marcinek":http://legacy.openaccessweek.org/profile/MarzenaMarcinek
END:VEVENT
END:VCALENDAR
