BEGIN:VCALENDAR
PRODID:NingEventWidget-v1
VERSION:2.0
METHOD:PUBLISH
BEGIN:VTIMEZONE
TZID:Pacific/Midway
X-LIC-LOCATION:Pacific/Midway
BEGIN:STANDARD
TZOFFSETFROM:-1100
TZOFFSETTO:-1100
TZNAME:SST
DTSTART:19700101T000000
END:STANDARD
END:VTIMEZONE
BEGIN:VEVENT
UID:5385115:Event:71656
DTSTAMP:20260423T001520Z
SUMMARY:OA Economics: Is Our Current Model Sustainable?
DESCRIPTION:Todd Chavez\n\nFor more information visit http://legacy.op
 enaccessweek.org/events/oa-economics-is-our-current-model-sustainable
DTSTART;TZID=Pacific/Midway:20121025T140000
DTEND;TZID=Pacific/Midway:20121025T150000
CATEGORIES:presentation
LOCATION:LIB209
WEBSITE:http://scholarcommons.usf.edu/tlib/
URL:http://scholarcommons.usf.edu/tlib/
CONTACT:
ORGANIZER;CN="Rebel Cummings-Sauls":http://legacy.openaccessweek.org/p
 rofile/RebelCummingsSauls
ATTACH;FMTTYPE="image/jpeg":
ATTENDEE;ROLE=REQ-PARTICIPANT;PARTSTAT=ACCEPTED;RSVP=TRUE;CN="Rebel Cu
 mmings-Sauls":http://legacy.openaccessweek.org/profile/RebelCummingsSa
 uls
END:VEVENT
END:VCALENDAR
