BEGIN:VCALENDAR
PRODID:NingEventWidget-v1
VERSION:2.0
METHOD:PUBLISH
BEGIN:VTIMEZONE
TZID:Pacific/Midway
X-LIC-LOCATION:Pacific/Midway
BEGIN:STANDARD
TZOFFSETFROM:-1100
TZOFFSETTO:-1100
TZNAME:SST
DTSTART:19700101T000000
END:STANDARD
END:VTIMEZONE
BEGIN:VEVENT
UID:5385115:Event:71574
DTSTAMP:20260420T190517Z
SUMMARY:OA Data - GIS and Beyond
DESCRIPTION:Pete Reehling and Richard McKenzie \n \n\nFor more inform
 ation visit http://legacy.openaccessweek.org/events/oa-data-gis-and-be
 yond
DTSTART;TZID=Pacific/Midway:20121022T110000
DTEND;TZID=Pacific/Midway:20121022T120000
CATEGORIES:presentation
LOCATION:LIB209- USF Tampa Campus
WEBSITE:http://scholarcommons.usf.edu/tlib/
URL:http://scholarcommons.usf.edu/tlib/
CONTACT:
ORGANIZER;CN="Rebel Cummings-Sauls":http://legacy.openaccessweek.org/p
 rofile/RebelCummingsSauls
ATTACH;FMTTYPE="image/jpeg":
ATTENDEE;ROLE=REQ-PARTICIPANT;PARTSTAT=ACCEPTED;RSVP=TRUE;CN="Rebel Cu
 mmings-Sauls":http://legacy.openaccessweek.org/profile/RebelCummingsSa
 uls
END:VEVENT
END:VCALENDAR
