BEGIN:VCALENDAR
PRODID:NingEventWidget-v1
VERSION:2.0
METHOD:PUBLISH
BEGIN:VTIMEZONE
TZID:Pacific/Midway
X-LIC-LOCATION:Pacific/Midway
BEGIN:STANDARD
TZOFFSETFROM:-1100
TZOFFSETTO:-1100
TZNAME:SST
DTSTART:19700101T000000
END:STANDARD
END:VTIMEZONE
BEGIN:VEVENT
UID:5385115:Event:290562
DTSTAMP:20260419T035802Z
SUMMARY:Norway common program: Diamonds are forever. On the benefits a
 nd challenges of Diamond Open Access publishing (webinar)
DESCRIPTION:As part of this year’s Open Access Week, several Norwegi
 an academic libraries, together with RDA (Research Data Alliance) Norw
 ay, present a number of events with topics related to open publishing,
  open science and data sharing. All events are digital, and are open t
 o anyone interested.---\nWhat is the way forward for institutional jou
 rnal publishing, in Norway and internationally? Will it still be possi
 ble to run scientific journals at a high level without APCs (Article P
 rocessing Charges), and can such journals be serious contenders to com
 mercial open access journals?With Per Pippin Aspaas, Jeroen M. Bosman 
 & Bianca Kramer.\nRegistration and more information: https://www.rd-al
 liance.org/group/rda-norway/event/webinar-diamonds-are-forever-benefit
 s-and-challenges-diamond-open-access\n\nFor more information visit htt
 p://legacy.openaccessweek.org/events/norway-common-program-diamonds-ar
 e-forever-on-the-benefits-and
DTSTART;TZID=Pacific/Midway:20211029T100000
DTEND;TZID=Pacific/Midway:20211029T113000
CATEGORIES:webinar
LOCATION:am
WEBSITE:https://www.rd-alliance.org/group/rda-norway/event/webinar-dia
 monds-are-forever-benefits-and-challenges-diamond-open-access
URL:https://www.rd-alliance.org/group/rda-norway/event/webinar-diamond
 s-are-forever-benefits-and-challenges-diamond-open-access
CONTACT:
ORGANIZER:RDA in Norway
ATTACH;FMTTYPE="image/jpeg":
ATTENDEE;ROLE=REQ-PARTICIPANT;PARTSTAT=ACCEPTED;RSVP=TRUE;CN="Jenny Os
 trop":http://legacy.openaccessweek.org/profile/JennyOstrop
END:VEVENT
END:VCALENDAR
