BEGIN:VCALENDAR
PRODID:NingEventWidget-v1
VERSION:2.0
METHOD:PUBLISH
BEGIN:VTIMEZONE
TZID:Pacific/Midway
X-LIC-LOCATION:Pacific/Midway
BEGIN:STANDARD
TZOFFSETFROM:-1100
TZOFFSETTO:-1100
TZNAME:SST
DTSTART:19700101T000000
END:STANDARD
END:VTIMEZONE
BEGIN:VEVENT
UID:5385115:Event:138596
DTSTAMP:20260422T214115Z
SUMMARY:Nodo Transmisión de Acceso Abierto 2015
DESCRIPTION:Nodo de transmisión de Jornada de Acceso Abierto Argentin
 o 2015\n\nFor more information visit http://legacy.openaccessweek.org/
 events/nodo-transmisi-n-de-acceso-abierto-2015
DTSTART;TZID=Pacific/Midway:20151020T180000
DTEND;TZID=Pacific/Midway:20151020T190000
CATEGORIES:academico
LOCATION:Argentina
WEBSITE:https://www.google.com.ar/maps/place/Tucum%C3%A1n+1946,+Posada
 s,+Misi%C3%B3nes/@-27.3715627,-55.9011098,16z/data=!4m2!3m1!1s0x9457be
 4a17315573:0xd39c84364a6086dc
URL:https://www.google.com.ar/maps/place/Tucum%C3%A1n+1946,+Posadas,+M
 isi%C3%B3nes/@-27.3715627,-55.9011098,16z/data=!4m2!3m1!1s0x9457be4a17
 315573:0xd39c84364a6086dc
CONTACT:3764-4421896
ORGANIZER:FHyCs. Departamento de Bibliotecologia.
ATTACH;FMTTYPE="image/jpeg":http://storage.ning.com/topology/rest/1.0/
 file/get/3057568101?profile=original
ATTENDEE;ROLE=REQ-PARTICIPANT;PARTSTAT=ACCEPTED;RSVP=TRUE;CN="Rosa Lop
 ez":http://legacy.openaccessweek.org/profile/RosaLopez
END:VEVENT
END:VCALENDAR
