BEGIN:VCALENDAR
PRODID:NingEventWidget-v1
VERSION:2.0
METHOD:PUBLISH
BEGIN:VTIMEZONE
TZID:Pacific/Midway
X-LIC-LOCATION:Pacific/Midway
BEGIN:STANDARD
TZOFFSETFROM:-1100
TZOFFSETTO:-1100
TZNAME:SST
DTSTART:19700101T000000
END:STANDARD
END:VTIMEZONE
BEGIN:VEVENT
UID:5385115:Event:138384
DTSTAMP:20260423T034226Z
SUMMARY:New IDIBAPS CRIS
DESCRIPTION:Do you want to export your CV in formats such as CVN, CVA 
 or open word, introducing your data only once? Do you want to observe 
 correctly the H2020 and Spanish Science Law Open Access policies or ha
 ve your own personal page on www.idibaps.org?\nThese and other simila
 r questions will be solved in an informative-participative session on 
 the new IDIBAPS CRIS that takes place on October 21. Research centres 
 such as VHIR, ICO and IDIBELL are implementing the same tool as well.\
 nAlso we will take the chance to announce the Author's IDs campaign pl
 anned for this autumn, which consists in collecting and assisting the 
 researchers of our community with the creation of their ORCID and Rese
 archerID.\nPlaces are limited, registration is not required. More info
 rmation on support@idibaps.org\n\nFor more information visit http://l
 egacy.openaccessweek.org/events/new-idibaps-cris
DTSTART;TZID=Pacific/Midway:20151021T150000
DTEND;TZID=Pacific/Midway:20151021T163000
CATEGORIES:presentation
LOCATION:Spain
WEBSITE:http://www.idibaps.org/media/upload/pdf//gestor_curricular_idi
 baps_poster_20151021_editora_10_676_1.pdf
URL:http://www.idibaps.org/media/upload/pdf//gestor_curricular_idibaps
 _poster_20151021_editora_10_676_1.pdf
CONTACT:
ORGANIZER:IDIBAPS
ATTACH;FMTTYPE="image/jpeg":http://storage.ning.com/topology/rest/1.0/
 file/get/3057510331?profile=original
ATTENDEE;ROLE=REQ-PARTICIPANT;PARTSTAT=ACCEPTED;RSVP=TRUE;CN="Marta Vi
 dal":http://legacy.openaccessweek.org/profile/MartaVidalRodriguez
END:VEVENT
END:VCALENDAR
