BEGIN:VCALENDAR
PRODID:NingEventWidget-v1
VERSION:2.0
METHOD:PUBLISH
BEGIN:VTIMEZONE
TZID:Pacific/Midway
X-LIC-LOCATION:Pacific/Midway
BEGIN:STANDARD
TZOFFSETFROM:-1100
TZOFFSETTO:-1100
TZNAME:SST
DTSTART:19700101T000000
END:STANDARD
END:VTIMEZONE
BEGIN:VEVENT
UID:5385115:Event:116235
DTSTAMP:20260421T043014Z
SUMMARY:New communication models in science and their legislative solu
 tions
DESCRIPTION:Bożena Bednarek-Michalska gives a talk during the Confere
 nce for Deans of the Faculties of Natural Sciences of the  Polish Uni
 versities about new communication models in science and their legislat
 ive solutions.\n\n\nFor more information visit http://legacy.openacces
 sweek.org/events/new-communication-models-in-science-and-their-legisla
 tive
DTSTART;TZID=Pacific/Midway:20141023T000000
DTEND;TZID=Pacific/Midway:20141023T235900
CATEGORIES:talk, lecture
LOCATION:Łysomice near Toruń
WEBSITE:
URL:
CONTACT:
ORGANIZER:Bożena Bednarek-Michalska
ATTACH;FMTTYPE="image/jpeg":
ATTENDEE;ROLE=REQ-PARTICIPANT;PARTSTAT=ACCEPTED;RSVP=TRUE;CN="Malgorza
 ta Rychlik":http://legacy.openaccessweek.org/profile/MalgorzataRychlik
END:VEVENT
END:VCALENDAR
