BEGIN:VCALENDAR
PRODID:NingEventWidget-v1
VERSION:2.0
METHOD:PUBLISH
BEGIN:VTIMEZONE
TZID:Pacific/Midway
X-LIC-LOCATION:Pacific/Midway
BEGIN:STANDARD
TZOFFSETFROM:-1100
TZOFFSETTO:-1100
TZNAME:SST
DTSTART:19700101T000000
END:STANDARD
END:VTIMEZONE
BEGIN:VEVENT
UID:5385115:Event:96075
DTSTAMP:20260423T231343Z
SUMMARY:Mythbusting Scientific Knowledge Transfer with nanoHUB.org:  C
 ollaborative Research and Dissemination with Quantifiable Impact on Re
 search and Education
DESCRIPTION:Dr Tim Fisher and Dr Tanya Faltens, both of Purdue Univers
 ity, discuss the benefits of openly sharing collaborative research too
 ls, using the successful example of NanoHUB.org.\n\nFor more informati
 on visit http://legacy.openaccessweek.org/events/mythbusting-scientifi
 c-knowledge-transfer-with-nanohub-org
DTSTART;TZID=Pacific/Midway:20131022T120000
DTEND;TZID=Pacific/Midway:20131022T130000
CATEGORIES:seminar
LOCATION:Georgia Institute of Technology
WEBSITE:http://www.library.gatech.edu/openaccess/
URL:http://www.library.gatech.edu/openaccess/
CONTACT:
ORGANIZER:Georgia Tech Open Access Week Committee
ATTACH;FMTTYPE="image/jpeg":
ATTENDEE;ROLE=REQ-PARTICIPANT;PARTSTAT=ACCEPTED;RSVP=TRUE;CN="Fred Ras
 coe":http://legacy.openaccessweek.org/profile/FredRascoe
END:VEVENT
END:VCALENDAR
