BEGIN:VCALENDAR
PRODID:NingEventWidget-v1
VERSION:2.0
METHOD:PUBLISH
BEGIN:VTIMEZONE
TZID:Pacific/Midway
X-LIC-LOCATION:Pacific/Midway
BEGIN:STANDARD
TZOFFSETFROM:-1100
TZOFFSETTO:-1100
TZNAME:SST
DTSTART:19700101T000000
END:STANDARD
END:VTIMEZONE
BEGIN:VEVENT
UID:5385115:Event:99212
DTSTAMP:20260425T101444Z
SUMMARY:Muzzles, Media Offices and Message Control
DESCRIPTION:The open system that used to encourage and trust federal s
 cientists to discuss their work has been replaced by a tightly control
 led system that churns out “approved lines.” Margaret Munro’s st
 ories exposing how the Harper government has muzzled and silenced its 
 researchers have attracted national and international attention. Her t
 alk will focus on Ottawa’s muzzles, media offices and message contro
 l.\n\nFor more information visit http://legacy.openaccessweek.org/even
 ts/muzzles-media-offices-and-message-control
DTSTART;TZID=Pacific/Midway:20131022T140000
DTEND;TZID=Pacific/Midway:20131022T150000
CATEGORIES:presentation
LOCATION:University of British Columbia
WEBSITE:http://oaweek.open.ubc.ca/2013/09/03/muzzles-media-offices-and
 -message-control/
URL:http://oaweek.open.ubc.ca/2013/09/03/muzzles-media-offices-and-mes
 sage-control/
CONTACT:
ORGANIZER:University of British Columbia Library
ATTACH;FMTTYPE="image/jpeg":http://storage.ning.com/topology/rest/1.0/
 file/get/3057522787?profile=original
ATTENDEE;ROLE=REQ-PARTICIPANT;PARTSTAT=ACCEPTED;RSVP=TRUE;CN="Open UBC
 ":http://legacy.openaccessweek.org/profile/TraceyVantyghem
END:VEVENT
END:VCALENDAR
