BEGIN:VCALENDAR
PRODID:NingEventWidget-v1
VERSION:2.0
METHOD:PUBLISH
BEGIN:VTIMEZONE
TZID:Pacific/Midway
X-LIC-LOCATION:Pacific/Midway
BEGIN:STANDARD
TZOFFSETFROM:-1100
TZOFFSETTO:-1100
TZNAME:SST
DTSTART:19700101T000000
END:STANDARD
END:VTIMEZONE
BEGIN:VEVENT
UID:5385115:Event:160949
DTSTAMP:20260423T154205Z
SUMMARY:Movie screening of \"The Internet's own boy\"
DESCRIPTION:Join us in the screening of the film \"The Internet's own 
 boy: the story of Aaron Swartz\", a biography on the life and demise o
 f the prominent Internet activist\n\n\n\nFor more information visit ht
 tp://legacy.openaccessweek.org/events/movie-screening-of-the-internet-
 s-own-boy
DTSTART;TZID=Pacific/Midway:20171025T170000
DTEND;TZID=Pacific/Midway:20171025T190000
CATEGORIES:movie
LOCATION:Kazakhstan
WEBSITE:https://goo.gl/maps/t1GLgG7GakN2
URL:https://goo.gl/maps/t1GLgG7GakN2
CONTACT:
ORGANIZER:Saule Sadykova, Nazarbayev University Library
ATTACH;FMTTYPE="image/jpeg":
ATTENDEE;ROLE=REQ-PARTICIPANT;PARTSTAT=ACCEPTED;RSVP=TRUE;CN="Paschali
 a Terzi":http://legacy.openaccessweek.org/profile/PaschaliaTerzi
END:VEVENT
END:VCALENDAR
