BEGIN:VCALENDAR
PRODID:NingEventWidget-v1
VERSION:2.0
METHOD:PUBLISH
BEGIN:VTIMEZONE
TZID:Pacific/Midway
X-LIC-LOCATION:Pacific/Midway
BEGIN:STANDARD
TZOFFSETFROM:-1100
TZOFFSETTO:-1100
TZNAME:SST
DTSTART:19700101T000000
END:STANDARD
END:VTIMEZONE
BEGIN:VEVENT
UID:5385115:Event:99119
DTSTAMP:20260425T125032Z
SUMMARY:MOOCs and On-Campus Learning
DESCRIPTION:What will higher education become as the MOOC innovation e
 ra plays out?\n\nSetting dire predictions aside it seems likely that s
 tudents will have a vast range of resources for learning at their disp
 osal. With MOOCs, MOORs, badge systems, learning communities and other
  innovations coming on line students will be able to get content deliv
 ery, active learning support, office hours and assessment from a varie
 ty of different sources. All of these will be available these at a wid
 er range of price points and qualities than is possible today.\n\nWhat
  do we do with our on-campus courses in this environment? How can we u
 se these innovations to offer students a better education than ever be
 fore? What will it be like running courses that make extensive use of 
 open online resources? What will open online courses be best at? Worst
 ? What must we excel at?\n\nThese questions led us to develop a Course
 ra MOOC, which ran for the first time this summer. We are now offering
  that MOOC in parallel with an on-campus course, in a continued effort
  to understand the relative strengths of each modality. The talk will 
 report on these experiences and present our current beliefs about the 
 challenges ahead.\n\nFor more information visit http://legacy.openacce
 ssweek.org/events/moocs-and-on-campus-learning
DTSTART;TZID=Pacific/Midway:20131023T150000
DTEND;TZID=Pacific/Midway:20131023T160000
CATEGORIES:presentation
LOCATION:University of British Columbia
WEBSITE:http://oaweek.open.ubc.ca/2013/09/14/moocs-and-on-campus-learn
 ing/
URL:http://oaweek.open.ubc.ca/2013/09/14/moocs-and-on-campus-learning/
CONTACT:
ORGANIZER:University of British Columbia Library
ATTACH;FMTTYPE="image/jpeg":http://storage.ning.com/topology/rest/1.0/
 file/get/3057522787?profile=original
ATTENDEE;ROLE=REQ-PARTICIPANT;PARTSTAT=ACCEPTED;RSVP=TRUE;CN="Open UBC
 ":http://legacy.openaccessweek.org/profile/TraceyVantyghem
END:VEVENT
END:VCALENDAR
