BEGIN:VCALENDAR
PRODID:NingEventWidget-v1
VERSION:2.0
METHOD:PUBLISH
BEGIN:VTIMEZONE
TZID:Pacific/Midway
X-LIC-LOCATION:Pacific/Midway
BEGIN:STANDARD
TZOFFSETFROM:-1100
TZOFFSETTO:-1100
TZNAME:SST
DTSTART:19700101T000000
END:STANDARD
END:VTIMEZONE
BEGIN:VEVENT
UID:5385115:Event:96552
DTSTAMP:20260425T142027Z
SUMMARY:Metodología de evaluación Redalyc
DESCRIPTION:Se detallarán todos y cada uno de los criterios de la met
 odología de evaluación que Redalyc utiliza para el ingreso de nuevas
  revistas a su acervo.\n\nFor more information visit http://legacy.ope
 naccessweek.org/events/metodolog-a-de-evaluaci-n-redalyc
DTSTART;TZID=Pacific/Midway:20131022T100000
DTEND;TZID=Pacific/Midway:20131022T120000
CATEGORIES:workshop
LOCATION:Redalyc (via webex)
WEBSITE:
URL:
CONTACT:
ORGANIZER;CN=Redalyc:http://legacy.openaccessweek.org/profile/Redalyc
ATTACH;FMTTYPE="image/jpeg":
ATTENDEE;ROLE=REQ-PARTICIPANT;PARTSTAT=ACCEPTED;RSVP=TRUE;CN="Karen Is
 abel Quintero Franquiz":http://legacy.openaccessweek.org/profile/Karen
 IsabelQuinteroFranquiz
ATTENDEE;ROLE=REQ-PARTICIPANT;PARTSTAT=ACCEPTED;RSVP=TRUE;CN=Redalyc:h
 ttp://legacy.openaccessweek.org/profile/Redalyc
END:VEVENT
END:VCALENDAR
