BEGIN:VCALENDAR
PRODID:NingEventWidget-v1
VERSION:2.0
METHOD:PUBLISH
BEGIN:VTIMEZONE
TZID:Pacific/Midway
X-LIC-LOCATION:Pacific/Midway
BEGIN:STANDARD
TZOFFSETFROM:-1100
TZOFFSETTO:-1100
TZNAME:SST
DTSTART:19700101T000000
END:STANDARD
END:VTIMEZONE
BEGIN:VEVENT
UID:5385115:Event:149167
DTSTAMP:20260425T074624Z
SUMMARY:Mesa redonda: “Las publicaciones de acceso abierto en las in
 stituciones de educación superior en México”
DESCRIPTION:Con motivo de la Semana Internacional de Acceso Abierto, e
 l Instituto de Investigaciones sobre la Universidad y la Educación re
 aliza una mesa redonda acerca de “Las publicaciones de Acceso Abier
 to en las instituciones de educación superior en México”, con la p
 articipación del Dr. Filiberto F. Martínez Arellano (IIB-UNAM), Mtro
 . Guillermo Chávez Sánchez (DGPFE, UNAM) y Mtra. Dolores Latapí Ort
 ega (IISUE, UNAM). Modera: Mtro. Sergio Arreguín (IISUE, UNAM).\n\nFo
 r more information visit http://legacy.openaccessweek.org/events/mesa-
 redonda-las-publicaciones-de-acceso-abierto-en-las
DTSTART;TZID=Pacific/Midway:20161024T170000
DTEND;TZID=Pacific/Midway:20161024T190000
CATEGORIES:panel, session
LOCATION:Mexico
WEBSITE:http://www.iisue.unam.mx/boletin/?p=4328
URL:http://www.iisue.unam.mx/boletin/?p=4328
CONTACT:Informes: 5622-6986 ext. 2438, 2450 y 2503  difusion_iisue@una
 m.mx
ORGANIZER:Instituto de Investigaciones sobre la Universidad y la Educa
 ción, UNAM
ATTACH;FMTTYPE="image/jpeg":http://storage.ning.com/topology/rest/1.0/
 file/get/3057583579?profile=original
ATTENDEE;ROLE=REQ-PARTICIPANT;PARTSTAT=ACCEPTED;RSVP=TRUE;CN="Toda la 
 UNAM en Línea":http://legacy.openaccessweek.org/profile/TodalaUNAMenL
 inea
END:VEVENT
END:VCALENDAR
